BEGIN:VCALENDAR
VERSION:2.0
PRODID:-//Tempe Marketplace - ECPv6.15.20//NONSGML v1.0//EN
CALSCALE:GREGORIAN
METHOD:PUBLISH
X-WR-CALNAME:Tempe Marketplace
X-ORIGINAL-URL:https://tempemarketplace.com
X-WR-CALDESC:Events for Tempe Marketplace
REFRESH-INTERVAL;VALUE=DURATION:PT1H
X-Robots-Tag:noindex
X-PUBLISHED-TTL:PT1H
BEGIN:VTIMEZONE
TZID:America/Phoenix
BEGIN:STANDARD
TZOFFSETFROM:-0700
TZOFFSETTO:-0700
TZNAME:MST
DTSTART:20250101T000000
END:STANDARD
END:VTIMEZONE
BEGIN:VEVENT
DTSTART;TZID=America/Phoenix:20260219T080000
DTEND;TZID=America/Phoenix:20260302T220000
DTSTAMP:20260421T170745
CREATED:20260218T204018Z
LAST-MODIFIED:20260219T154558Z
UID:10001513-1771488000-1772488800@tempemarketplace.com
SUMMARY:ReFABRICATE Denim Collection
DESCRIPTION:Your old jeans could walk the runway!\nTempe Marketplace is collecting gently used denim for local designers to transform into one-of-a-kind\, upcycled runway looks. \nDONATE NOW THROUGH MARCH 2\nDrop off your denim at The District Street near Dave & Busters \nGive your denim a second life. Support sustainable fashion. Watch the magic happen. \nThen see the transformation at the ReFABRICate Fashion Show on April 18. \nAll sizes and washes welcome.
URL:https://tempemarketplace.com/event/refabricate-denim-collection/
ATTACH;FMTTYPE=image/jpeg:https://tempemarketplace.com/wp-content/uploads/2026/02/TMP-Refabricate2026-WEBSITE-916x355-Promo.jpg
END:VEVENT
BEGIN:VEVENT
DTSTART;TZID=America/Phoenix:20260307T180000
DTEND;TZID=America/Phoenix:20260307T210000
DTSTAMP:20260421T170745
CREATED:20260303T162815Z
LAST-MODIFIED:20260306T160632Z
UID:10001505-1772906400-1772917200@tempemarketplace.com
SUMMARY:Live Music - Vinyl Fusion
DESCRIPTION:Live Music featuring Vinyl Fusion at The District Stage March 7 from 6PM-9PM
URL:https://tempemarketplace.com/event/live/
LOCATION:The District Stage
CATEGORIES:Live Music
ATTACH;FMTTYPE=image/png:https://tempemarketplace.com/wp-content/uploads/2025/11/tmp-live-music-WEBSITE-1536x582-concert.png
END:VEVENT
BEGIN:VEVENT
DTSTART;TZID=America/Phoenix:20260313T110000
DTEND;TZID=America/Phoenix:20260314T180000
DTSTAMP:20260421T170745
CREATED:20260309T220147Z
LAST-MODIFIED:20260312T211343Z
UID:10001338-1773399600-1773511200@tempemarketplace.com
SUMMARY:Capri Jewelers Verragio Bridal Show
DESCRIPTION:Join us at Capri Jewelers Arizona for our exclusive Verragio Bridal Event on Friday\, March 13th\, and Saturday\, March 14th! \nThis is a special two-day bridal event where guests can explore the Verragio engagement ring and wedding band collection\, enjoy exclusive event-only offers\, and experience a fun bridal shopping atmosphere.  \nExclusive event offers with savings up to $1\,000 OR a Free Lab Diamond with any Verragio Ring Purchase\, along with interest-free financing options to help make your dream ring a reality. \nYou also don’t want to miss out on the giveaways which include 1 carat lab diamond stud earrings\, a Fossil watch\, and a sterling silver diamond heart necklacer \nGuests who RSVP in advance will automatically be entered to win prizes\, so we’re encouraging everyone to reserve their spot early. \nWe will also be serving light snacks\, champagne and offering complimentary jewelry cleaning for guests during the event. \nRSVP to secure your spot today!
URL:https://tempemarketplace.com/event/capri/
LOCATION:Capri Jewelers
CATEGORIES:Special Events
ATTACH;FMTTYPE=image/jpeg:https://tempemarketplace.com/wp-content/uploads/2026/03/IMG_92671.jpg
END:VEVENT
BEGIN:VEVENT
DTSTART;TZID=America/Phoenix:20260314T100000
DTEND;TZID=America/Phoenix:20260314T230000
DTSTAMP:20260421T170745
CREATED:20240304T173426Z
LAST-MODIFIED:20260309T214942Z
UID:10000930-1773482400-1773529200@tempemarketplace.com
SUMMARY:Thirsty Lion - St. Patrick's Day Weekend Celebration
DESCRIPTION:Join Thirsty Lion on Saturday\, March 14th for their biggest event of the year – St. Patrick’s Day weekend! \nGuests will enjoy authentic Irish dancers starting at 4PM & bagpipers in full regalia starting at 6PM\, st. Patrick’s Day themed decor & more! \nThirsty Lions St. Patrick’s Day menu is available starting March 5th through March 17th\, including longtime guest favorites such as Scotch Eggs\, as well as new items such as Guinness Beef Stew and Jameson Irish Coffee. Menu Below \nThirsty Lion is also partnering with Jameson and the St. Baldrick’s Foundation\, with proceeds from our featured craft cocktail supporting childhood cancer research. In addition\, we will be offering Guinness Stout 0.0 NA as part of our partnership with Guinness.  \nBring your clan and get a taste of the Emerald Isle at Thirsty Lion! For full details and to make a reservation\, visit Thirsty Lion …or just come on by! \nThe luck of the Irish awaits you.
URL:https://tempemarketplace.com/event/stpatricksday/
LOCATION:Thirsty Lion\, 2000 E Rio Salado Pkwy Ste 1041\, Tempe\, AZ\, 85281
CATEGORIES:Special Events
ATTACH;FMTTYPE=image/jpeg:https://tempemarketplace.com/wp-content/uploads/2024/02/BT3A0965-2.jpg
END:VEVENT
BEGIN:VEVENT
DTSTART;TZID=America/Phoenix:20260316T150000
DTEND;TZID=America/Phoenix:20260316T163000
DTSTAMP:20260421T170745
CREATED:20260303T184741Z
LAST-MODIFIED:20260303T184741Z
UID:10001514-1773673200-1773678600@tempemarketplace.com
SUMMARY:John Daly Appearance - Total Wine & More
DESCRIPTION:Monday\, March 16th | 3:00PM-4:30PM\nThe professional golfer on the PGA Tour & PGA Tour Champions; John Daly will make an appearance at the Tempe Marketplace Total Wine & More on March 16th for his brand “Good Boy Vodka”. Every Pour Helps a Pup. Come out and visit John Daly from 3:00PM-4:30PM. \nBe prepared for a large crowd. Must be 21 or Older. Chairs\, Large Umbrellas\, etc. are not allowed. \n 
URL:https://tempemarketplace.com/event/johndaly/
LOCATION:Total Wine & More
ATTACH;FMTTYPE=image/webp:https://tempemarketplace.com/wp-content/uploads/2026/03/10043658862622.webp
END:VEVENT
BEGIN:VEVENT
DTSTART;TZID=America/Phoenix:20260317T180000
DTEND;TZID=America/Phoenix:20260317T220000
DTSTAMP:20260421T170745
CREATED:20260301T155517Z
LAST-MODIFIED:20260304T231549Z
UID:10001511-1773770400-1773784800@tempemarketplace.com
SUMMARY:Lucky with lululemon Fun Run x NFJF
DESCRIPTION:Lucky with Lulu Fun Run | March 17th | 6PM-10PM \nFeeling lucky? Stride into Spring with the lululemon x Not Fast\, Just Furious Run Club Fun Run!! \n\n\nWe’re kicking off spring in a BIG way! Join Not Fast\, Just Furious Run Club and lululemon for the Lucky with Lulu Fun Run. \nWe’ll begin with an exclusive in-store shopping experience at lululemon\, featuring access to the newest run gear\, a photobooth\, and a variety of local vendors. \nBONUS: Spend $150+ USD during the shopping portion and receive a special gift with purchase. \nAfter shopping\, we’ll gather at the Tempe Marketplace Stage for a group warm-up before heading out on our Fun Run. Once we wrap up\, the celebration continues at Lou Malnati’s\, where attendees can enjoy exclusive post-run food and drink deals. \nCome for the run\, stay for the community—let’s make this a spring kickoff to remember! \n\n\n\nRESERVE A SPOT HERE
URL:https://tempemarketplace.com/event/luckylulu/
LOCATION:The District Stage
CATEGORIES:Special Events
ATTACH;FMTTYPE=image/jpeg:https://tempemarketplace.com/wp-content/uploads/2026/02/LULU-LUCKY.jpg
END:VEVENT
BEGIN:VEVENT
DTSTART;TZID=America/Phoenix:20260418T180000
DTEND;TZID=America/Phoenix:20260418T210000
DTSTAMP:20260421T170745
CREATED:20260324T150057Z
LAST-MODIFIED:20260402T170404Z
UID:10001395-1776535200-1776546000@tempemarketplace.com
SUMMARY:reFABRICate Fashion Show
DESCRIPTION:FABRIC partners with Tempe Marketplace to engage the community in repurposing thrifted denim jeans items into new\, runway-worthy creations. The jeans are redesigned/upcycled by FABRIC members (established and emerging designers & brands) as well as fashion teachers & students and are featured on the stage at Tempe Marketplace. \nGET TICKETS HERE\n   \nTIMELINE: \n6 :00PM Claim your seat \n6 :30PM Mingle and enjoy drinks \n7 :00PM Show begins \nTICKETS: \nRunway Seats – $15 \nStanding Room – Free \nONE WINNER is chosen and awarded The “RunzWithScissors” trophy. The winner also receives a $250 gift card to Tempe Marketplace. \nAFTER ONLINE TICKET SALES END\, ANY REMAINING TICKETS MAY BE AVAILABLE AT THE DOOR AFTER 5PM DAY OF SHOW. FREE STANDING ROOM IS AVAILABLE EVEN IF SEATS ARE SOLD OUT. \nIMPORTANT – PLEASE NOTE: \nArrive at 6:00pm day of show to claim your seat location. First come-first served. Unclaimed seats will be filled prior to 7pm showtime so there are no empty seats on the runway \nWANT TO PARTICIPATE AS A DESIGNER OR STUDENT CLICK HERE
URL:https://tempemarketplace.com/event/refabricate-2/
LOCATION:The District Stage
CATEGORIES:Special Events
ATTACH;FMTTYPE=image/jpeg:https://tempemarketplace.com/wp-content/uploads/2026/03/2026-TMP-ReFABRICate-Web-Grid-Thumbnail-624x413-1.jpg
END:VEVENT
BEGIN:VEVENT
DTSTART;TZID=America/Phoenix:20260419T170000
DTEND;TZID=America/Phoenix:20260419T200000
DTSTAMP:20260421T170745
CREATED:20260330T205324Z
LAST-MODIFIED:20260402T220439Z
UID:10001517-1776618000-1776628800@tempemarketplace.com
SUMMARY:Pack & Impact - Performance Meets Purpose
DESCRIPTION:Sunday\, April 19th | 5PM-8PM\nJoin us on Sunday\, April 19th for a meaningful evening of entertainment and community impact with From Pain to Promise. From 5–8 PM\, enjoy live performances from 10 local Valley theatre companies featuring acts inspired by popular productions like SIX The Musical\, Bring It On\, Finding Nemo\, and more. \nThis inspiring event brings together talented student performers who are not only showcasing their work on stage but also giving back in a powerful way. Throughout the evening\, participating students will be packing over 1\,000 “Bags of Hope” for moms\, children\, and unhoused individuals —making a direct impact in the community. \nCome out to support local talent admire how these students are using their voices and actions to create change. \nAbout From Pain to Promise: From Pain to Promise is a 501(c)(3) nonprofit organization founded in 2022 with a mission to uplift individuals facing hardship. Through strong community partnerships\, the organization has packed and distributed over 30\,000 essential care bags to unhoused individuals\, women\, and children in need. Their events are rooted in compassion\, connection\, and action—bringing people together to create real\, lasting change. For this event\, From Pain to Promise is proud to partner with St. Vincent de Paul and City of Grace to help distribute Bags of Hope throughout the community
URL:https://tempemarketplace.com/event/packandimpact-2/
LOCATION:The District Stage
CATEGORIES:Special Events
ATTACH;FMTTYPE=image/jpeg:https://tempemarketplace.com/wp-content/uploads/2026/03/Grid-THumbnail-624x413-1.jpg
END:VEVENT
BEGIN:VEVENT
DTSTART;TZID=America/Phoenix:20260422T160000
DTEND;TZID=America/Phoenix:20260422T200000
DTSTAMP:20260421T170745
CREATED:20260323T231425Z
LAST-MODIFIED:20260323T232459Z
UID:10001515-1776873600-1776888000@tempemarketplace.com
SUMMARY:Eco Pop - Fashion Week
DESCRIPTION:Tempe Marketplace is hosting Eco Pop for ECO Fashion Week by FABRIC.\nWednesday\, April 22nd | 4PM-8PM\nJoin us at FABRIC during Eco Fashion Week for Eco Pop\, a one-of-a-kind\, evening event celebrating sustainability and circular fashion! Shop our pop-up vendor shop\, featuring sustainable apparel and accessory brands and eco-conscious vendors. Don’t miss this opportunity to shop and support sustainability! \nGET TICKETS NOW\nWanna participate? Check out the links below for more details. \nVENDOR INFORMATION
URL:https://tempemarketplace.com/event/ecopop-2/
ATTACH;FMTTYPE=image/jpeg:https://tempemarketplace.com/wp-content/uploads/2026/03/Landscape-Eco-Pop-1.jpg
END:VEVENT
BEGIN:VEVENT
DTSTART;TZID=America/Phoenix:20260429T160000
DTEND;TZID=America/Phoenix:20260429T190000
DTSTAMP:20260421T170745
CREATED:20260402T164859Z
LAST-MODIFIED:20260402T232115Z
UID:10001518-1777478400-1777489200@tempemarketplace.com
SUMMARY:Relive Health Grand Opening Celebration
DESCRIPTION:Wednesday\, April 29 | 4-8pm \n Join us for an exciting evening for the grand opening celebration of Relive Health. Featuring a ribbon cutting ceremony\, raffle prizes\, and exclusive week-long grand opening specials on Botox & fillers\, laser treatments\, and medical esthetics packages. Guests can also enjoy complimentary consultations for medical weight loss\, hormone optimization\, and peptide therapy. \nDon’t miss this opportunity to explore personalized wellness solutions and experience everything Relive Health has to offer. \nRSVP HERE
URL:https://tempemarketplace.com/event/relivehealth-2/
LOCATION:Relive Health\, 2010 E Rio Salado Pkwy Suite 117\, Tempe\, AZ\, 85288\, United States
CATEGORIES:Special Events
ATTACH;FMTTYPE=image/jpeg:https://tempemarketplace.com/wp-content/uploads/2025/11/EliteLuxuryNews-Relive-Health-1.jpg
END:VEVENT
BEGIN:VEVENT
DTSTART;TZID=America/Phoenix:20260506T170000
DTEND;TZID=America/Phoenix:20260506T200000
DTSTAMP:20260421T170745
CREATED:20250415T174728Z
LAST-MODIFIED:20260416T183714Z
UID:10001403-1778086800-1778097600@tempemarketplace.com
SUMMARY:Sip & Celebrate YOU: A Toast to Motherhood
DESCRIPTION:This Mother’s Day – Celebrate You!\nGrab your friends and join us at Tempe Marketplace for an evening celebrating YOU. \nEnjoy a fun night of creative activities\, relaxing experiences\, and festive treats – the perfect way to kick off Mother’s Day week. \nWednesday\, May 6\, 2026\n5 PM – 8 PM\nThe District Stage\nTICKETS AVAILABLE ON EVENTBRITE IN ADVANCE OF THE EVENT\nRegister by April 26th. Limited to 200 guests. 21+ exclusive event.\nGRAB YOUR SPOT NOW\nJoin us at The District: \n\nComplimentary DIY Flower Bouquet for all Guests\nLight Refreshments\nCocktails Available for Purchase\nTry on rings & receive a gift from Capri Jewelers\nDessert Samples from Nothing Bundt Cake\n\nChoose Two Experiences: \n\nChair Massages\nCandle making with Soap Des Jour\nPottery Painting with As You Wish\nWine & Chocolate Tasting with Rocky Mountain Chocolate Factory & Dave & Busters\n\nSpots are limited for each experience – available on a first-come\, first-served basis \nGRAB YOUR SPOT NOW\nThe processing fee is included in the ticket price.\nRegistration through Eventbrite is required to attend. No onsite tickets available. Please drink responsibly. Participants must be over the legal drinking age. Guests at Tempe Marketplace can consume alcoholic beverages purchased from participating retailers within the marked areas of the pedestrian walkway in The District during the hours of operation. Vestar and participating retailers reserve the right to refuse service and may remove any persons from the pedestrian walkway for any reason.
URL:https://tempemarketplace.com/event/celebratemom/
LOCATION:The District Stage
CATEGORIES:Special Events
ATTACH;FMTTYPE=image/jpeg:https://tempemarketplace.com/wp-content/uploads/2026/04/Website-624x413-Grid-Thumbnail.jpg
END:VEVENT
BEGIN:VEVENT
DTSTART;TZID=America/Phoenix:20260516T110000
DTEND;TZID=America/Phoenix:20260516T130000
DTSTAMP:20260421T170745
CREATED:20260413T150654Z
LAST-MODIFIED:20260413T150915Z
UID:10001519-1778929200-1778936400@tempemarketplace.com
SUMMARY:Bubble Bash
DESCRIPTION:Get ready for the ultimate bubble-filled event of the season!\nWe’re thrilled to invite you and your family to BUBBLE BASH at The District — a colorful\, immersive\, hands-on experience you won’t want to miss. \nThis year’s Bubble Bash is bigger and better than ever\, with brand-new activities added to the lineup:\n\nBubble Bicycles: Race to create the most bubbles!\nBubble Foam Art: Create your own colorful foam masterpiece\nBazooka Foam Blasters: Style it\, spray it\, blast it!\n\nPlus all the classic fun:\n\nCraft your own bubble wand\nImmersive bubble stations for all ages\nLive entertainment\, games & giveaways\n\nThis FREE event is perfect for little ones and kids at heart. Come ready to get a little bubbly! 🫧
URL:https://tempemarketplace.com/event/bubble-bash-2026/
LOCATION:The District Stage
CATEGORIES:Special Events
ATTACH;FMTTYPE=image/jpeg:https://tempemarketplace.com/wp-content/uploads/2026/04/TMP-BubbleBash-2026-EMAIL-Thumbnail-600x600-1.jpg
END:VEVENT
END:VCALENDAR