BEGIN:VCALENDAR
VERSION:2.0
PRODID:-//Tempe Marketplace - ECPv6.15.20//NONSGML v1.0//EN
CALSCALE:GREGORIAN
METHOD:PUBLISH
X-ORIGINAL-URL:https://tempemarketplace.com
X-WR-CALDESC:Events for Tempe Marketplace
REFRESH-INTERVAL;VALUE=DURATION:PT1H
X-Robots-Tag:noindex
X-PUBLISHED-TTL:PT1H
BEGIN:VTIMEZONE
TZID:America/Phoenix
BEGIN:STANDARD
TZOFFSETFROM:-0700
TZOFFSETTO:-0700
TZNAME:MST
DTSTART:20230101T000000
END:STANDARD
END:VTIMEZONE
BEGIN:VEVENT
DTSTART;VALUE=DATE:20240913
DTEND;VALUE=DATE:20240914
DTSTAMP:20260421T132341
CREATED:20240603T215816Z
LAST-MODIFIED:20240905T195510Z
UID:10001271-1726185600-1726271999@tempemarketplace.com
SUMMARY:Karaoke Night @ Dave & Buster's
DESCRIPTION:Dave & Buster’s Tempe presents Rooftop Karaoke! \nBring the whole crew to sing your favorite songs! \n9PM – 12AM EVERY FRIDAY \nAll Ages Welcome
URL:https://tempemarketplace.com/event/karaoke-night-dave-busters-7/
LOCATION:Dave & Busters
CATEGORIES:Special Events
ATTACH;FMTTYPE=image/png:https://tempemarketplace.com/wp-content/uploads/2024/04/karaoke-1920-x-1080-px.png
END:VEVENT
BEGIN:VEVENT
DTSTART;TZID=America/Phoenix:20240914T180000
DTEND;TZID=America/Phoenix:20240914T210000
DTSTAMP:20260421T132341
CREATED:20240906T173857Z
LAST-MODIFIED:20240906T173857Z
UID:10001300-1726336800-1726347600@tempemarketplace.com
SUMMARY:Live Music - Alexia Rodriguez
DESCRIPTION:Born in Chicago\, IL and mostly raised in Phoenix\, AZ\, Alexia is a full-time musician and singer/songwriter/guitarist for bands Eyes Set to Kill\, The Secret Destroyers\, and her solo project Lexia. She has toured internationally with the band she started (Eyes Set to Kill) since 2006 and opened up for bands such as Papa Roach\, Halestorm\, Rob Zombie\, The Used and more.
URL:https://tempemarketplace.com/event/live-music-alexia-rodriguez/
LOCATION:The District Stage
CATEGORIES:Live Music
ATTACH;FMTTYPE=image/png:https://tempemarketplace.com/wp-content/uploads/2024/09/alexia-rodriguez.png
END:VEVENT
BEGIN:VEVENT
DTSTART;VALUE=DATE:20240915
DTEND;VALUE=DATE:20240916
DTSTAMP:20260421T132341
CREATED:20240603T215157Z
LAST-MODIFIED:20240905T195840Z
UID:10001259-1726358400-1726444799@tempemarketplace.com
SUMMARY:Havana Salsa Dance Night @ Dave & Buster's
DESCRIPTION:Havana Salsa Dance Night @ Dave & Buster’s Tempe \nDave & Buster’s Tempe presents Havana Salsa Dancing on the Rooftop Patio! \nHosted by Brenda \nEVERY WEDNESDAY & SUNDAY \nLESSONS START @ 7PM \nOPEN DANCING 8:30PM – 12AM \n$5 COVER AT THE DOOR \nMUST BE 21+ FOR ENTRY \nVisit www.facebook.com/havananightsarizona for more details
URL:https://tempemarketplace.com/event/havana-salsa-dance-night-dave-busters-14/
LOCATION:Dave & Busters
CATEGORIES:Special Events
ATTACH;FMTTYPE=image/jpeg:https://tempemarketplace.com/wp-content/uploads/2024/04/Havana-Dance-Nights-Banner.jpg
END:VEVENT
BEGIN:VEVENT
DTSTART;VALUE=DATE:20240917
DTEND;VALUE=DATE:20240918
DTSTAMP:20260421T132341
CREATED:20240805T164538Z
LAST-MODIFIED:20240905T195811Z
UID:10001250-1726531200-1726617599@tempemarketplace.com
SUMMARY:Country Swing Dance Night @ Dave & Buster's
DESCRIPTION:Dave & Buster’s Tempe presents Country Swing Dancing on the Rooftop Patio! \nHosted by Country Nomads \nEVERY TUESDAY \nLESSONS START @ 7:30PM \nOPEN DANCING 8PM – 12AM \n$5 COVER AT THE DOOR \nMUST BE 21+ FOR ENTRY
URL:https://tempemarketplace.com/event/country-swing-dance-night-dave-busters-7/
LOCATION:Dave & Busters
CATEGORIES:Special Events
ATTACH;FMTTYPE=image/png:https://tempemarketplace.com/wp-content/uploads/2024/04/Country-Dance-Night-Event-Cover-1.png
END:VEVENT
BEGIN:VEVENT
DTSTART;VALUE=DATE:20240918
DTEND;VALUE=DATE:20240919
DTSTAMP:20260421T132341
CREATED:20240603T215133Z
LAST-MODIFIED:20240905T195731Z
UID:10001258-1726617600-1726703999@tempemarketplace.com
SUMMARY:Havana Salsa Dance Night @ Dave & Buster's
DESCRIPTION:Havana Salsa Dance Night @ Dave & Buster’s Tempe \nDave & Buster’s Tempe presents Havana Salsa Dancing on the Rooftop Patio! \nHosted by Brenda \nEVERY WEDNESDAY & SUNDAY \nLESSONS START @ 7PM \nOPEN DANCING 8:30PM – 12AM \n$5 COVER AT THE DOOR \nMUST BE 21+ FOR ENTRY \nVisit www.facebook.com/havananightsarizona for more details
URL:https://tempemarketplace.com/event/havana-salsa-dance-night-dave-busters-13/
LOCATION:Dave & Busters
CATEGORIES:Special Events
ATTACH;FMTTYPE=image/jpeg:https://tempemarketplace.com/wp-content/uploads/2024/04/Havana-Dance-Nights-Banner.jpg
END:VEVENT
BEGIN:VEVENT
DTSTART;VALUE=DATE:20240919
DTEND;VALUE=DATE:20240920
DTSTAMP:20260421T132341
CREATED:20240603T215504Z
LAST-MODIFIED:20240905T200006Z
UID:10001265-1726704000-1726790399@tempemarketplace.com
SUMMARY:Drone Race Viewing @ Dave & Buster's
DESCRIPTION:Dave & Buster’s Tempe presents Indoor Drone Race Viewing! \nMeet & talk with members of the Drone Racing Community & watch them race their course! \n7PM – 10PM EVERY THURSDAY \nAll Ages Welcome
URL:https://tempemarketplace.com/event/drone-race-viewing-dave-busters-8/
LOCATION:Dave & Busters
CATEGORIES:Special Events
ATTACH;FMTTYPE=image/png:https://tempemarketplace.com/wp-content/uploads/2024/04/Drone-Racing-Event-Banner.png
END:VEVENT
BEGIN:VEVENT
DTSTART;VALUE=DATE:20240919
DTEND;VALUE=DATE:20240920
DTSTAMP:20260421T132341
CREATED:20240603T215627Z
LAST-MODIFIED:20240905T195940Z
UID:10001268-1726704000-1726790399@tempemarketplace.com
SUMMARY:Bachata Addiction Dance Night @ Dave & Buster's
DESCRIPTION:Dave & Buster’s Tempe presents Bachata Dancing on the Rooftop Patio! \nHosted by Bachata Addiction \nEVERY THURSDAY \nLESSONS START @ 8PM \n$10 COVER AT THE DOOR FROM 8PM – 9PM FOR LESSONS \nOPEN DANCING 9PM – 1AM \n$5 COVER AT THE DOOR \nMUST BE 21+ FOR ENTRY \nVisit phoenixbachata.com for more details.
URL:https://tempemarketplace.com/event/bachata-addiction-dance-night-dave-busters-8/
LOCATION:Dave & Busters
CATEGORIES:Special Events
ATTACH;FMTTYPE=image/jpeg:https://tempemarketplace.com/wp-content/uploads/2024/04/Bachata-Addiction-Flyer.jpg
END:VEVENT
BEGIN:VEVENT
DTSTART;TZID=America/Phoenix:20240919T180000
DTEND;TZID=America/Phoenix:20240919T210000
DTSTAMP:20260421T132341
CREATED:20240829T203313Z
LAST-MODIFIED:20240829T203313Z
UID:10001297-1726768800-1726779600@tempemarketplace.com
SUMMARY:As You Wish 90's Night!
DESCRIPTION:Kick off our 29th anniversary celebration and paint pottery like it’s 1995! Join us for 90’s Night\, a nostalgic evening filled with your favorite 90’s tunes\, a fun photo booth with props\, a themed mocktail\, trivia\, and more! Slip on your jellies\, grab your scrunchies\, and come create a piece of pottery that takes you back to the raddest decade! \nBOOK HERE \n 
URL:https://tempemarketplace.com/event/as-you-wish-90s-night/
LOCATION:As You Wish
ATTACH;FMTTYPE=image/png:https://tempemarketplace.com/wp-content/uploads/2024/08/1-4.png
END:VEVENT
BEGIN:VEVENT
DTSTART;VALUE=DATE:20240920
DTEND;VALUE=DATE:20240921
DTSTAMP:20260421T132341
CREATED:20240603T215835Z
LAST-MODIFIED:20240905T195910Z
UID:10001272-1726790400-1726876799@tempemarketplace.com
SUMMARY:Karaoke Night @ Dave & Buster's
DESCRIPTION:Dave & Buster’s Tempe presents Rooftop Karaoke! \nBring the whole crew to sing your favorite songs! \n9PM – 12AM EVERY FRIDAY \nAll Ages Welcome
URL:https://tempemarketplace.com/event/karaoke-night-dave-busters-8/
LOCATION:Dave & Busters
CATEGORIES:Special Events
ATTACH;FMTTYPE=image/png:https://tempemarketplace.com/wp-content/uploads/2024/04/karaoke-1920-x-1080-px.png
END:VEVENT
BEGIN:VEVENT
DTSTART;TZID=America/Phoenix:20240921T180000
DTEND;TZID=America/Phoenix:20240921T210000
DTSTAMP:20260421T132341
CREATED:20240917T165039Z
LAST-MODIFIED:20240917T165040Z
UID:10001301-1726941600-1726952400@tempemarketplace.com
SUMMARY:Live Music - Something Outrageous
DESCRIPTION:Punk from Phoenix with heavy influences of hardcore and punk rock. Something Outrageous plays steadily every weekend in Phoenix with touring under their belt.
URL:https://tempemarketplace.com/event/live-music-something-outrageous/
LOCATION:The District Stage
CATEGORIES:Live Music
ATTACH;FMTTYPE=image/jpeg:https://tempemarketplace.com/wp-content/uploads/2024/09/Somethings-outrageous.jpg
END:VEVENT
BEGIN:VEVENT
DTSTART;VALUE=DATE:20240922
DTEND;VALUE=DATE:20240923
DTSTAMP:20260421T132341
CREATED:20240603T215235Z
LAST-MODIFIED:20240905T200138Z
UID:10001261-1726963200-1727049599@tempemarketplace.com
SUMMARY:Havana Salsa Dance Night @ Dave & Buster's
DESCRIPTION:Havana Salsa Dance Night @ Dave & Buster’s Tempe \nDave & Buster’s Tempe presents Havana Salsa Dancing on the Rooftop Patio! \nHosted by Brenda \nEVERY WEDNESDAY & SUNDAY \nLESSONS START @ 7PM \nOPEN DANCING 8:30PM – 12AM \n$5 COVER AT THE DOOR \nMUST BE 21+ FOR ENTRY \nVisit www.facebook.com/havananightsarizona for more details
URL:https://tempemarketplace.com/event/havana-salsa-dance-night-dave-busters-16/
LOCATION:Dave & Busters
CATEGORIES:Special Events
ATTACH;FMTTYPE=image/jpeg:https://tempemarketplace.com/wp-content/uploads/2024/04/Havana-Dance-Nights-Banner.jpg
END:VEVENT
BEGIN:VEVENT
DTSTART;VALUE=DATE:20240924
DTEND;VALUE=DATE:20240925
DTSTAMP:20260421T132341
CREATED:20240603T201658Z
LAST-MODIFIED:20240905T200104Z
UID:10001251-1727136000-1727222399@tempemarketplace.com
SUMMARY:Country Swing Dance Night @ Dave & Buster's
DESCRIPTION:Dave & Buster’s Tempe presents Country Swing Dancing on the Rooftop Patio! \nHosted by Country Nomads \nEVERY TUESDAY \nLESSONS START @ 7:30PM \nOPEN DANCING 8PM – 12AM \n$5 COVER AT THE DOOR \nMUST BE 21+ FOR ENTRY
URL:https://tempemarketplace.com/event/country-swing-dance-night-dave-busters-8/
LOCATION:Dave & Busters
CATEGORIES:Special Events
ATTACH;FMTTYPE=image/png:https://tempemarketplace.com/wp-content/uploads/2024/04/Country-Dance-Night-Event-Cover-1.png
END:VEVENT
BEGIN:VEVENT
DTSTART;VALUE=DATE:20240925
DTEND;VALUE=DATE:20240926
DTSTAMP:20260421T132341
CREATED:20240603T215217Z
LAST-MODIFIED:20240905T200040Z
UID:10001260-1727222400-1727308799@tempemarketplace.com
SUMMARY:Havana Salsa Dance Night @ Dave & Buster's
DESCRIPTION:Havana Salsa Dance Night @ Dave & Buster’s Tempe \nDave & Buster’s Tempe presents Havana Salsa Dancing on the Rooftop Patio! \nHosted by Brenda \nEVERY WEDNESDAY & SUNDAY \nLESSONS START @ 7PM \nOPEN DANCING 8:30PM – 12AM \n$5 COVER AT THE DOOR \nMUST BE 21+ FOR ENTRY \nVisit www.facebook.com/havananightsarizona for more details
URL:https://tempemarketplace.com/event/havana-salsa-dance-night-dave-busters-15/
LOCATION:Dave & Busters
CATEGORIES:Special Events
ATTACH;FMTTYPE=image/jpeg:https://tempemarketplace.com/wp-content/uploads/2024/04/Havana-Dance-Nights-Banner.jpg
END:VEVENT
BEGIN:VEVENT
DTSTART;VALUE=DATE:20240926
DTEND;VALUE=DATE:20240927
DTSTAMP:20260421T132341
CREATED:20240603T215517Z
LAST-MODIFIED:20240905T200302Z
UID:10001266-1727308800-1727395199@tempemarketplace.com
SUMMARY:Drone Race Viewing @ Dave & Buster's
DESCRIPTION:Dave & Buster’s Tempe presents Indoor Drone Race Viewing! \nMeet & talk with members of the Drone Racing Community & watch them race their course! \n7PM – 10PM EVERY THURSDAY \nAll Ages Welcome
URL:https://tempemarketplace.com/event/drone-race-viewing-dave-busters-9/
LOCATION:Dave & Busters
CATEGORIES:Special Events
ATTACH;FMTTYPE=image/png:https://tempemarketplace.com/wp-content/uploads/2024/04/Drone-Racing-Event-Banner.png
END:VEVENT
BEGIN:VEVENT
DTSTART;VALUE=DATE:20240926
DTEND;VALUE=DATE:20240927
DTSTAMP:20260421T132341
CREATED:20240603T215653Z
LAST-MODIFIED:20240905T200238Z
UID:10001269-1727308800-1727395199@tempemarketplace.com
SUMMARY:Bachata Addiction Dance Night @ Dave & Buster's
DESCRIPTION:Dave & Buster’s Tempe presents Bachata Dancing on the Rooftop Patio! \nHosted by Bachata Addiction \nEVERY THURSDAY \nLESSONS START @ 8PM \n$10 COVER AT THE DOOR FROM 8PM – 9PM FOR LESSONS \nOPEN DANCING 9PM – 1AM \n$5 COVER AT THE DOOR \nMUST BE 21+ FOR ENTRY \nVisit phoenixbachata.com for more details.
URL:https://tempemarketplace.com/event/bachata-addiction-dance-night-dave-busters-9/
LOCATION:Dave & Busters
CATEGORIES:Special Events
ATTACH;FMTTYPE=image/jpeg:https://tempemarketplace.com/wp-content/uploads/2024/04/Bachata-Addiction-Flyer.jpg
END:VEVENT
BEGIN:VEVENT
DTSTART;VALUE=DATE:20240927
DTEND;VALUE=DATE:20240928
DTSTAMP:20260421T132341
CREATED:20240603T215855Z
LAST-MODIFIED:20240905T200204Z
UID:10001273-1727395200-1727481599@tempemarketplace.com
SUMMARY:Karaoke Night @ Dave & Buster's
DESCRIPTION:Dave & Buster’s Tempe presents Rooftop Karaoke! \nBring the whole crew to sing your favorite songs! \n9PM – 12AM EVERY FRIDAY \nAll Ages Welcome
URL:https://tempemarketplace.com/event/karaoke-night-dave-busters-9/
LOCATION:Dave & Busters
CATEGORIES:Special Events
ATTACH;FMTTYPE=image/png:https://tempemarketplace.com/wp-content/uploads/2024/04/karaoke-1920-x-1080-px.png
END:VEVENT
BEGIN:VEVENT
DTSTART;TZID=America/Phoenix:20240927T183000
DTEND;TZID=America/Phoenix:20240927T200000
DTSTAMP:20260421T132341
CREATED:20240829T203546Z
LAST-MODIFIED:20240829T203546Z
UID:10001298-1727461800-1727467200@tempemarketplace.com
SUMMARY:As You Wish Kid's Paint Night!
DESCRIPTION:Bubbling Cauldron Mug – Kid’s will have a blast gearing up for Halloween and learning to paint with bubbles while creating this spooky cauldron mug! \nBOOK HERE
URL:https://tempemarketplace.com/event/as-you-wish-kids-paint-night/
LOCATION:As You Wish
ATTACH;FMTTYPE=image/png:https://tempemarketplace.com/wp-content/uploads/2024/08/2-3.png
END:VEVENT
BEGIN:VEVENT
DTSTART;VALUE=DATE:20241003
DTEND;VALUE=DATE:20241101
DTSTAMP:20260421T132341
CREATED:20241008T225928Z
LAST-MODIFIED:20241008T230318Z
UID:10001317-1727913600-1730419199@tempemarketplace.com
SUMMARY:Dave & Buster's - Bachata Addiction Dance Night
DESCRIPTION:Dave & Buster’s Tempe presents Bachata Dancing on the Rooftop Patio! Hosted by Bachata Addiction \nEVERY THURSDAY \n\n\n\nOctober 10th | 8PM – 1AM\nOctober 17th | 8PM – 1AM\nOctober 24th | 8PM – 1AM\nOctober 31st | 8PM – 1AM\n\n\n\nLESSONS START @ 8PM \n$10 COVER AT THE DOOR FROM 8PM – 9PM FOR LESSONS \nOPEN DANCING 9PM – 1AM \n$5 COVER AT THE DOOR \nMUST BE 21+ FOR ENTRY \nVisit phoenixbachata.com for more details.
URL:https://tempemarketplace.com/event/dave-busters-bachata-addiction-dance-night/
LOCATION:Dave & Busters
ATTACH;FMTTYPE=image/jpeg:https://tempemarketplace.com/wp-content/uploads/2024/04/Bachata-Addiction-Flyer.jpg
END:VEVENT
BEGIN:VEVENT
DTSTART;VALUE=DATE:20241003
DTEND;VALUE=DATE:20241101
DTSTAMP:20260421T132341
CREATED:20241008T230659Z
LAST-MODIFIED:20241008T230659Z
UID:10001318-1727913600-1730419199@tempemarketplace.com
SUMMARY:Dave & Buster's - Drone Racing Viewing
DESCRIPTION:Dave & Buster’s Tempe presents Indoor Drone Race Viewing! Meet & talk with members of the Drone Racing Community & watch them race their course! \nEVERY THURSDAY \n\n\n\nOctober 10th | 7PM – 10PM\nOctober 17th | 7PM – 10PM\nOctober 24th | 7PM – 10PM\nOctober 21st | 7PM – 10PM\n\n\n\nAll Ages Welcome!
URL:https://tempemarketplace.com/event/dave-busters-drone-racing-viewing/
LOCATION:Dave & Busters
ATTACH;FMTTYPE=image/png:https://tempemarketplace.com/wp-content/uploads/2024/04/Drone-Racing-Event-Banner.png
END:VEVENT
BEGIN:VEVENT
DTSTART;TZID=America/Phoenix:20241004T180000
DTEND;TZID=America/Phoenix:20241004T210000
DTSTAMP:20260421T132341
CREATED:20240930T211136Z
LAST-MODIFIED:20240930T211136Z
UID:10001313-1728064800-1728075600@tempemarketplace.com
SUMMARY:As You Wish - Clay Workshop - Ghost Votive
DESCRIPTION:This hands-on class guides you through crafting your own ghostly votive from clay. You’ll shape and decorate your ghost\, then add fun hat and other unique details to give it plenty of personality. Each ghost comes with a tea light\, perfect for lighting up your creation with an eerie glow. Join us for a fun and creative experience\, and take home a spook-tacular piece of art. Registration required.  \nREGISTER HERE \n 
URL:https://tempemarketplace.com/event/as-you-wish-clay-workshop-ghost-votive/
LOCATION:As You Wish
ATTACH;FMTTYPE=image/png:https://tempemarketplace.com/wp-content/uploads/2024/09/3-1.png
END:VEVENT
BEGIN:VEVENT
DTSTART;TZID=America/Phoenix:20241005T180000
DTEND;TZID=America/Phoenix:20241005T210000
DTSTAMP:20260421T132341
CREATED:20240917T172058Z
LAST-MODIFIED:20240917T172058Z
UID:10001303-1728151200-1728162000@tempemarketplace.com
SUMMARY:Live Music - Come Back Buddy
DESCRIPTION:Come Back Buddy is a 3-piece rock and roll band inspired by the legendary “Buddy Holly and the Crickets.” The trio’s repertoire includes the music of many artists from the 50s-era including Elvis Presley\, Chuck Berry\, Johnny Cash\, Roy Orbison\, Ricky Nelson\, and of course\, Buddy Holly. Mike Randall provides lead vocals and guitar with Janine Randall on bass and Don Rinehart on drums.
URL:https://tempemarketplace.com/event/live-music-come-back-buddy-3/
LOCATION:The District Stage
CATEGORIES:Live Music
ATTACH;FMTTYPE=image/jpeg:https://tempemarketplace.com/wp-content/uploads/2024/09/Come-Back-Buddy.jpg
END:VEVENT
BEGIN:VEVENT
DTSTART;VALUE=DATE:20241008
DTEND;VALUE=DATE:20241030
DTSTAMP:20260421T132341
CREATED:20241008T231008Z
LAST-MODIFIED:20241008T231008Z
UID:10001319-1728345600-1730246399@tempemarketplace.com
SUMMARY:Dave & Buster's - Country Swing Dance Night
DESCRIPTION:Dave & Buster’s Tempe presents Country Swing Dancing on the Rooftop Patio! Hosted by Country Nomads \nEVERY TUESDAY \n\n\n\nOctober 8th | 7:30PM – 12AM\nOctober 15th | 7:30PM – 12AM\nOctober 22nd | 7:30PM – 12AM\nOctober 29th | 7:30PM – 12AM\n\n\n\nLESSONS START @ 7:30PM \nOPEN DANCING 8PM – 12AM \n$5 COVER AT THE DOOR \nMUST BE 21+ FOR ENTRY
URL:https://tempemarketplace.com/event/dave-busters-country-swing-dance-night/
LOCATION:Dave & Busters
ATTACH;FMTTYPE=image/png:https://tempemarketplace.com/wp-content/uploads/2024/04/Country-Dance-Night-Event-Cover-1.png
END:VEVENT
BEGIN:VEVENT
DTSTART;VALUE=DATE:20241009
DTEND;VALUE=DATE:20241031
DTSTAMP:20260421T132341
CREATED:20241008T231940Z
LAST-MODIFIED:20241008T232057Z
UID:10001321-1728432000-1730332799@tempemarketplace.com
SUMMARY:Dave & Buster's - Havana Salsa Dance Night
DESCRIPTION:Dave & Buster’s Tempe presents Havana Salsa Dancing on the Rooftop Patio! Hosted by Brenda \nEVERY WEDNESDAY & SUNDAY \n\n\n\nWednesday\, October 9th | 7PM – 12AM\nSunday\, October 12th | 7PM – 12AM\nWednesday\, October 16th | 7PM – 12AM\nSunday\, October 19th | 7PM – 12AM\nWednesday\, October 23rd | 7PM – 12AM\nSunday\, October 26th | 7PM – 12AM\nWednesday\, October 30th | 7PM – 12AM\n\n\n\nLESSONS START @ 7PM \nOPEN DANCING 8:30PM – 12AM \n$5 COVER AT THE DOOR \nMUST BE 21+ FOR ENTRY \nVisit www.facebook.com/havananightsarizona for more details
URL:https://tempemarketplace.com/event/dave-busters-havana-salsa-dance-night/
LOCATION:Dave & Busters
ATTACH;FMTTYPE=image/jpeg:https://tempemarketplace.com/wp-content/uploads/2024/04/Havana-Dance-Nights-Banner-1.jpg
END:VEVENT
BEGIN:VEVENT
DTSTART;VALUE=DATE:20241011
DTEND;VALUE=DATE:20241026
DTSTAMP:20260421T132341
CREATED:20241008T231250Z
LAST-MODIFIED:20241008T231255Z
UID:10001320-1728604800-1729900799@tempemarketplace.com
SUMMARY:Dave & Buster's - Karaoke Night
DESCRIPTION:Dave & Buster’s Tempe presents Rooftop Karaoke! Bring the whole crew to sing your favorite songs! \nEVERY FRIDAY \n\n\n\nOctober 11th | 9PM – 1AM\nOctober 18th | 9PM – 1AM\nOctober 25th | 9PM – 1AM\n\n\n\nAll Ages Welcome!
URL:https://tempemarketplace.com/event/dave-busters-karaoke-night/
LOCATION:Dave & Busters
ATTACH;FMTTYPE=image/png:https://tempemarketplace.com/wp-content/uploads/2024/04/karaoke-1920-x-1080-px.png
END:VEVENT
BEGIN:VEVENT
DTSTART;TZID=America/Phoenix:20241012T180000
DTEND;TZID=America/Phoenix:20241012T210000
DTSTAMP:20260421T132341
CREATED:20240917T172354Z
LAST-MODIFIED:20240917T175932Z
UID:10001304-1728756000-1728766800@tempemarketplace.com
SUMMARY:Live Music - Nina Speaking
DESCRIPTION:Nina Speaking are playing the best songs from the 90s. They cover songs from the best genre defining artists from Rock\, Alternative\, Pop-Rock\, Punk\, and more. They have been playing throughout the Valley since 2013 and provide an entertaining show that everyone can enjoy.
URL:https://tempemarketplace.com/event/live-music-nina-speaking-3/
LOCATION:The District Stage
CATEGORIES:Live Music
ATTACH;FMTTYPE=image/jpeg:https://tempemarketplace.com/wp-content/uploads/2024/09/Nina-Speaking.jpg
END:VEVENT
BEGIN:VEVENT
DTSTART;TZID=America/Phoenix:20241013T100000
DTEND;TZID=America/Phoenix:20241013T110000
DTSTAMP:20260421T132341
CREATED:20240927T201249Z
LAST-MODIFIED:20240927T201636Z
UID:10001308-1728813600-1728817200@tempemarketplace.com
SUMMARY:Sip & Stretch Series - lululemon
DESCRIPTION:SUNDAYS OCTOBER 13\, 20\, 27 \n10AM – 11AM \nTHE DISTRICT STAGE \nCome prepared for Resistance Training\, Pilates and HIIT\, as each week will vary! Guests 21+ can enjoy a morning cocktail after the workout at our Sip & Stroll Mobile Bar\, provided by Dave & Buster’s. \nFirst 20 guests to sign up will receive a complimentary lululemon gift! \nEach week enter to win a $500 shopping spree. * One entry per event. Winner will be selected on or after 10/27/24. \nRESERVE A SPOT
URL:https://tempemarketplace.com/event/sip-stretch-series-lululemon/2024-10-13/
LOCATION:The District Stage
CATEGORIES:Special Events
ATTACH;FMTTYPE=image/jpeg:https://tempemarketplace.com/wp-content/uploads/2024/09/SipandStretch_WebsiteHeroTenant_916x355.jpg
END:VEVENT
BEGIN:VEVENT
DTSTART;TZID=America/Phoenix:20241016T173000
DTEND;TZID=America/Phoenix:20241016T193000
DTSTAMP:20260421T132341
CREATED:20240920T201538Z
LAST-MODIFIED:20240920T201539Z
UID:10001307-1729099800-1729107000@tempemarketplace.com
SUMMARY:Sweet Street Spooktacular
DESCRIPTION:Trick-or-treat from shop to shop\, enjoy enchanting melodies\, boo-tiful costume contests\, and frighteningly fun prizes! \nLocated in The District 
URL:https://tempemarketplace.com/event/halloween/
LOCATION:The District Street
CATEGORIES:Special Events
ATTACH;FMTTYPE=image/jpeg:https://tempemarketplace.com/wp-content/uploads/2024/09/tmp-halloween-WEBSITE-1107x726-Promo.jpg
END:VEVENT
BEGIN:VEVENT
DTSTART;TZID=America/Phoenix:20241017T180000
DTEND;TZID=America/Phoenix:20241017T210000
DTSTAMP:20260421T132341
CREATED:20240930T211305Z
LAST-MODIFIED:20240930T211305Z
UID:10001314-1729188000-1729198800@tempemarketplace.com
SUMMARY:As You Wish - Scary Movie Paint Night
DESCRIPTION:Get into the Halloween spirit with As You Wish Scary Movie Paint Night! Join us for a spine-tingling evening of pottery painting as we play your favorite horror movie soundtracks\, sip on themed mocktails\, and use exclusive spooky sticker stencils and traceables. Capture the chills with our Photo Booth and props\, and create a pottery piece that’s to die for! Registration required.  \nREGISTER HERE
URL:https://tempemarketplace.com/event/as-you-wish-scary-movie-paint-night/
LOCATION:As You Wish
ATTACH;FMTTYPE=image/png:https://tempemarketplace.com/wp-content/uploads/2024/09/1-7.png
END:VEVENT
BEGIN:VEVENT
DTSTART;TZID=America/Phoenix:20241019T180000
DTEND;TZID=America/Phoenix:20241019T210000
DTSTAMP:20260421T132341
CREATED:20240917T180227Z
LAST-MODIFIED:20240917T193047Z
UID:10001305-1729360800-1729371600@tempemarketplace.com
SUMMARY:Live Music - Halloday
DESCRIPTION:Halloday is a four-piece\, Tempe-Based Dreampop band that likes to venture into the realms of the Shoegaze\, Post-Punk\, and Goth music genre. With versatile musicians\, they have learned to cover and been inspired by songs from bands like The Cure\, Slowdive\, My Bloody Valentine\, Mazzy Star\, and many more.
URL:https://tempemarketplace.com/event/live-music-halloday/
LOCATION:The District Stage
CATEGORIES:Live Music
ATTACH;FMTTYPE=image/png:https://tempemarketplace.com/wp-content/uploads/2024/09/Halloday-Band-Picture.png
END:VEVENT
BEGIN:VEVENT
DTSTART;TZID=America/Phoenix:20241020T100000
DTEND;TZID=America/Phoenix:20241020T110000
DTSTAMP:20260421T132341
CREATED:20240927T201439Z
LAST-MODIFIED:20240927T201439Z
UID:10001309-1729418400-1729422000@tempemarketplace.com
SUMMARY:Sip & Stretch Series - lululemon
DESCRIPTION:SUNDAYS OCTOBER 13\, 20\, 27 \n10AM – 11AM \nTHE DISTRICT STAGE \nCome prepared for Resistance Training\, Pilates and HIIT\, as each week will vary! Guests 21+ can enjoy a morning cocktail after the workout at our Sip & Stroll Mobile Bar\, provided by Dave & Buster’s. \nFirst 20 guests to sign up will receive a complimentary lululemon gift! \nEach week enter to win a $500 shopping spree. * One entry per event. Winner will be selected on or after 10/27/24. \nRESERVE A SPOT
URL:https://tempemarketplace.com/event/sip-stretch-series-lululemon-2/
LOCATION:The District Stage
CATEGORIES:Special Events
ATTACH;FMTTYPE=image/jpeg:https://tempemarketplace.com/wp-content/uploads/2024/09/SipandStretch_WebsiteHeroTenant_916x355-1.jpg
END:VEVENT
END:VCALENDAR