BEGIN:VCALENDAR
VERSION:2.0
PRODID:-//Tempe Marketplace - ECPv6.15.20//NONSGML v1.0//EN
CALSCALE:GREGORIAN
METHOD:PUBLISH
X-ORIGINAL-URL:https://tempemarketplace.com
X-WR-CALDESC:Events for Tempe Marketplace
REFRESH-INTERVAL;VALUE=DURATION:PT1H
X-Robots-Tag:noindex
X-PUBLISHED-TTL:PT1H
BEGIN:VTIMEZONE
TZID:America/Phoenix
BEGIN:STANDARD
TZOFFSETFROM:-0700
TZOFFSETTO:-0700
TZNAME:MST
DTSTART:20230101T000000
END:STANDARD
END:VTIMEZONE
BEGIN:VEVENT
DTSTART;TZID=America/Phoenix:20241207T100000
DTEND;TZID=America/Phoenix:20241207T104500
DTSTAMP:20260421T230334
CREATED:20241127T000842Z
LAST-MODIFIED:20241127T000842Z
UID:10001351-1733565600-1733568300@tempemarketplace.com
SUMMARY:lululemon Holiday Yoga - Move with Matt
DESCRIPTION:Join us for a festive flow at Move with Matt this holiday season! 🎄✨ \nCome stretch\, strengthen\, and find your zen with Matt\, a talented instructor from Radi8 Hot Yoga in Arcadia. This all-levels yoga class will take place on the stage at Tempe Marketplace from 10:00–10:45 AM\, sponsored by lululemon. \nDon’t miss out on this perfect way to kick off your holiday season! 🌟 \nRSVP HERE
URL:https://tempemarketplace.com/event/lululemon-holiday-yoga-move-with-matt/
LOCATION:The District Stage
CATEGORIES:Special Events
ATTACH;FMTTYPE=image/jpeg:https://tempemarketplace.com/wp-content/uploads/2024/11/HolidayYoga1.jpg
END:VEVENT
BEGIN:VEVENT
DTSTART;TZID=America/Phoenix:20241207T100000
DTEND;TZID=America/Phoenix:20241207T180000
DTSTAMP:20260421T230334
CREATED:20241203T230059Z
LAST-MODIFIED:20241203T230059Z
UID:10001355-1733565600-1733594400@tempemarketplace.com
SUMMARY:Harkins Gaming Showdown of Champions
DESCRIPTION:It’s the final showdown! The Harkins Gaming Showdown of Champions is here. Competitor registration for the biggest gaming tournament of the year is now open! Get ready to compete for BIGGER and BETTER prizes in the end-of-the-year championship showdown on Saturday\, December 7 from 10AM – 6PM at Tempe Marketplace. Competitors can enjoy a second-chance bracket and double-elimination tournament! Competitor tickets are $25 and spectators can join for $5.
URL:https://tempemarketplace.com/event/harkins-gaming-showdown-of-champions/
LOCATION:Harkins\, 2000 E Rio Salado Pkwy Ste1150\, Tempe\, AZ\, 851281\, United States
ATTACH;FMTTYPE=image/jpeg:https://tempemarketplace.com/wp-content/uploads/2024/12/Harkins-Gaming-Showdown-of-Champions-2024.jpg
END:VEVENT
BEGIN:VEVENT
DTSTART;TZID=America/Phoenix:20241207T100000
DTEND;TZID=America/Phoenix:20241207T180000
DTSTAMP:20260421T230334
CREATED:20241204T194439Z
LAST-MODIFIED:20241204T194439Z
UID:10001356-1733565600-1733594400@tempemarketplace.com
SUMMARY:Harkins Gaming Showdown of Champions
DESCRIPTION:It’s the final showdown! The Harkins Gaming Showdown of Champions is here. Competitor registration for the biggest gaming tournament of the year is now open! \nGet ready to compete for BIGGER and BETTER prizes in the end-of-the-year championship showdown on Saturday\, December 7 from 10AM – 6PM at Tempe Marketplace. \nCompetitors can enjoy a second-chance bracket and double-elimination tournament! Competitor tickets are $25 and spectators can join for $5. \nGET TICKETS HERE\n 
URL:https://tempemarketplace.com/event/harkins-gaming-showdown-of-champions-2/
LOCATION:Harkins\, 2000 E Rio Salado Pkwy Ste1150\, Tempe\, AZ\, 851281\, United States
CATEGORIES:Special Events
ATTACH;FMTTYPE=image/jpeg:https://tempemarketplace.com/wp-content/uploads/2024/12/Harkins-Gaming-Showdown-of-Champions-2024-1200x627-1.jpg
END:VEVENT
BEGIN:VEVENT
DTSTART;TZID=America/Phoenix:20241213T180000
DTEND;TZID=America/Phoenix:20241221T210000
DTSTAMP:20260421T230334
CREATED:20241211T205054Z
LAST-MODIFIED:20241220T223744Z
UID:10001360-1734112800-1734814800@tempemarketplace.com
SUMMARY:Holiday Sip & Stroll Mobile Bar
DESCRIPTION:Be sure to check out our Holiday Sip & Stroll Bar on select dates. Enjoy festive cocktails\, pop-up art installations and nightly snowfall starting December 13th! \nLocated next to The District Stage. \nSelect Dates: \nFriday\, December 13th – 6pm – 9pm \nSaturday\, December 14th – 6pm – 9pm \nSaturday\, December 21st – 6pm – 9pm \n*Must be 21+ with a designated wristband to participate\, provided by the Mobile Bar. No outside alcohol permitted. Restrictions apply.
URL:https://tempemarketplace.com/event/holiday-sip-stroll-mobile-bar/
CATEGORIES:Holiday Happenings
ATTACH;FMTTYPE=image/jpeg:https://tempemarketplace.com/wp-content/uploads/2024/12/Holiday-mobile-bar.jpg
END:VEVENT
BEGIN:VEVENT
DTSTART;TZID=America/Phoenix:20241213T190000
DTEND;TZID=America/Phoenix:20241224T200000
DTSTAMP:20260421T230334
CREATED:20241201T165244Z
LAST-MODIFIED:20241211T180410Z
UID:10001354-1734116400-1735070400@tempemarketplace.com
SUMMARY:12 Days of Snowfall
DESCRIPTION:Enjoy the magic of snow in the desert at Tempe Marketplace. Watch The District Street between Dave & Busters and LumberJaxes Axe Grill & Bar transform into a living snow globe with Nightly Snowfall 12 days before Christmas. Live shows are at 7 p.m. and 8 p.m. \nChristmas Eve 12/24 hourly snowfall 11am – 8pm 
URL:https://tempemarketplace.com/event/12-days-of-snowfall-3/
LOCATION:The District Street
CATEGORIES:Special Events
ATTACH;FMTTYPE=image/jpeg:https://tempemarketplace.com/wp-content/uploads/2024/12/Snowfall916x355-EVENT-PAGE.jpg
END:VEVENT
BEGIN:VEVENT
DTSTART;TZID=America/Phoenix:20241214T110000
DTEND;TZID=America/Phoenix:20241224T170000
DTSTAMP:20260421T230334
CREATED:20241120T215353Z
LAST-MODIFIED:20241210T164258Z
UID:10001343-1734174000-1735059600@tempemarketplace.com
SUMMARY:Holiday Gift Wrapping
DESCRIPTION:McClintock High School Masque & Gavel Booster’s will be providing complimentary gift wrapping for a cause this holiday season! \nDonations are appreciated and accepted via cash\, credit or check. \nLocated in The District between Victoria’s Secret & Nike. \nDecember 14 | 11am – 9pm \nDecember 15 | 11am – 6pm \nDecember 20 | 11am – 9pm \nDecember 21 | 11am – 9pm \nDecember 22 | 11am – 6pm \nDecember 23 | 11am – 9pm \nDecember 24 | 11am – 5pm
URL:https://tempemarketplace.com/event/giftwrapping/
LOCATION:The District Street
CATEGORIES:Special Events
ATTACH;FMTTYPE=image/jpeg:https://tempemarketplace.com/wp-content/uploads/2024/11/GiftWrapping916x355-EVENT-PAGE.jpg
END:VEVENT
BEGIN:VEVENT
DTSTART;TZID=America/Phoenix:20241214T180000
DTEND;TZID=America/Phoenix:20241214T210000
DTSTAMP:20260421T230334
CREATED:20240917T165958Z
LAST-MODIFIED:20241210T183825Z
UID:10001302-1734199200-1734210000@tempemarketplace.com
SUMMARY:Live Music - Suzie and The Acceleratorz
DESCRIPTION:Suzie & The AcceleratorZ will take you on a musical journey that travels from the beginning of Rockabilly to the Rockabilly of today\, performing vintage and contemporary music favorites including Buddy Holly\, Elvis Presley and Imelda May.
URL:https://tempemarketplace.com/event/live-music-suzie-and-the-acceleratorz/
LOCATION:The District Stage
CATEGORIES:Live Music
ATTACH;FMTTYPE=image/jpeg:https://tempemarketplace.com/wp-content/uploads/2024/09/Suzie-The-AcceleratorZ.jpg
END:VEVENT
BEGIN:VEVENT
DTSTART;TZID=America/Phoenix:20241221T180000
DTEND;TZID=America/Phoenix:20241221T210000
DTSTAMP:20260421T230334
CREATED:20241210T183746Z
LAST-MODIFIED:20241210T183746Z
UID:10001358-1734804000-1734814800@tempemarketplace.com
SUMMARY:Live Music - Come Back Buddy
DESCRIPTION:Come Back Buddy is a 3-piece Rock-n-Roll band inspired by the legendary “Buddy Holly and the Crickets.” The trio’s repertoire includes the music of many artists from the 50’s era including Elvis Presley\, Chuck Berry\, Johnny Cash\, Roy Orbison\, Ricky Nelson\, and of course\, Buddy Holly. \n 
URL:https://tempemarketplace.com/event/live-music-come-back-buddy-5/
LOCATION:The District Stage
CATEGORIES:Live Music
ATTACH;FMTTYPE=image/jpeg:https://tempemarketplace.com/wp-content/uploads/2024/10/Come-Back-Buddy.jpg
END:VEVENT
BEGIN:VEVENT
DTSTART;TZID=America/Phoenix:20241228T180000
DTEND;TZID=America/Phoenix:20241228T210000
DTSTAMP:20260421T230334
CREATED:20241210T184023Z
LAST-MODIFIED:20241210T184023Z
UID:10001359-1735408800-1735419600@tempemarketplace.com
SUMMARY:Live Music - Alan Conquest
DESCRIPTION:The Alan Conquest Band is a blend of original music and country/rock playing many of today’s popular country artists. Our new single ” You Still Matter to Me” is currently being played on 94.1 KDRE Country Radio in Phoenix. \n 
URL:https://tempemarketplace.com/event/live-music-alan-conquest/
LOCATION:The District Stage
CATEGORIES:Live Music
ATTACH;FMTTYPE=image/jpeg:https://tempemarketplace.com/wp-content/uploads/2024/12/Alan-Conquest.jpeg
END:VEVENT
BEGIN:VEVENT
DTSTART;VALUE=DATE:20241231
DTEND;VALUE=DATE:20250101
DTSTAMP:20260421T230334
CREATED:20241219T191041Z
LAST-MODIFIED:20241219T191453Z
UID:10001362-1735603200-1735689599@tempemarketplace.com
SUMMARY:NEW YEAR'S CELEBRATION AT D&B - 21+
DESCRIPTION:Ringing in 2025 is a VIBE at Dave & Buster’s! \nBring your crew and toast to the New Year! \n21+ NYE – Showtime 9:00pm \n  \nPURCHASE TICKETS HERE \nTickets Options Include: \n\nGeneral Admission:\n\n\nBanquet featuring: Nacho Station\, Cajun Shrimp Pasta Station\, Smashed Burger Sliders\, Buffalo Chicken Sliders\, Barbacoa Quesadillas\, Veggie Quesadillas\, Mini Pretzel Dogs\, House Salad\, & Churros\n$25 Power Card + Unlimited Video Game Play\nUnlimited Soft Drinks\nNYE Swag\nChampagne Toast at Midnight\nExclusive Access to NYE Party\nTaxes & 20% suggested gratuity on food and beverages included in listed price\n\n  \n​2. Premium Admission:  \n\nSame benefits of General Admission Ticket\nTwo (2) Premium Drink Tickets per Ticket
URL:https://tempemarketplace.com/event/4380/
LOCATION:Dave & Busters
ATTACH;FMTTYPE=image/png:https://tempemarketplace.com/wp-content/uploads/2024/12/Screenshot-2024-12-19-120914.png
END:VEVENT
BEGIN:VEVENT
DTSTART;TZID=America/Phoenix:20241231T160000
DTEND;TZID=America/Phoenix:20241231T190000
DTSTAMP:20260421T230334
CREATED:20241219T185504Z
LAST-MODIFIED:20241219T191424Z
UID:10001361-1735660800-1735671600@tempemarketplace.com
SUMMARY:Celebrate NYE at Dave & Buster's
DESCRIPTION:RINGING IN 2025 AT DAVE & BUSTER’S IS A VIBE! \nYou don’t need to wait until Midnight to ring in the New Year! Celebrate early at D&B and get the kids to bed on time! \nEvent starts at 4pm and ends at 7pm. \n  \nPURCHASE TICKETS HERE \nEach Ticket Includes: \n\nBanquet with: Signature Flatbreads\, Mini Pretzel Dogs w/ Ketchup\, Boneless Wings w/ Ranch\, Garlic Butter Pretzel Sticks w/ Marinara\, Bar Burgers\, House Salad w/ dressing\, French Fries\, & Churros\nUnlimited Soft Drinks\n$20 Power Card + Unlimited Video Game Play\nAccess to Exclusive Party Space\nVideo Ball Drop\nGinger Ale Toast\nNYE Hats & Noisemakers\nTaxes & 20% suggested gratuity on food and beverages included in listed price
URL:https://tempemarketplace.com/event/celebrate-nye-at-dave-busters/
LOCATION:Dave & Busters
ATTACH;FMTTYPE=image/png:https://tempemarketplace.com/wp-content/uploads/2024/12/Screenshot-2024-12-19-115338.png
END:VEVENT
BEGIN:VEVENT
DTSTART;TZID=America/Phoenix:20250101T110000
DTEND;TZID=America/Phoenix:20250101T140000
DTSTAMP:20260421T230334
CREATED:20241220T212243Z
LAST-MODIFIED:20241227T190822Z
UID:10001363-1735729200-1735740000@tempemarketplace.com
SUMMARY:Sip & Watch - The Peach Bowl
DESCRIPTION:Cheer on the ASU Sun Devils and watch the game on our jumbo LED screen! \nOrder food\, beer or cocktails at the Mobile Bar provided by Dave & Buster’s and shop the Rally House pop-up to get your favorite ASU gear! \nEnter-to-win a $250 Rally House gift card\, prizes and more! \nNew Year’s Day matchup will feature the Longhorns and Sun Devils in the first college football game of 2025. \nThe winner of the Chick-fil-A Peach Bowl will then advance to play for the CFP Semifinals the following week.
URL:https://tempemarketplace.com/event/sip-watch-the-peach-bowl/
LOCATION:The District Stage
ATTACH;FMTTYPE=image/jpeg:https://tempemarketplace.com/wp-content/uploads/2024/12/Sip-and-Watch1080x1080.jpg
END:VEVENT
BEGIN:VEVENT
DTSTART;TZID=America/Phoenix:20250104T180000
DTEND;TZID=America/Phoenix:20250104T210000
DTSTAMP:20260421T230334
CREATED:20241231T163220Z
LAST-MODIFIED:20241231T163220Z
UID:10001364-1736013600-1736024400@tempemarketplace.com
SUMMARY:Live Music - Millennial Summer
DESCRIPTION:Kelvin Hames is a singer/songwriter from Tempe\, AZ. He has been playing music for over six years now with his band\, Millennial Summer. They play songs ranging from classic rock by artists such as Manfred Mann’s Earth Band\, Elton John\, 10cc\, Grand Funk Railroad\, all the way to more modern rock & indie.
URL:https://tempemarketplace.com/event/live-music-millennial-summer-2/
LOCATION:The District Stage
CATEGORIES:Live Music
ATTACH;FMTTYPE=image/png:https://tempemarketplace.com/wp-content/uploads/2024/12/Millenial-Summer.png
END:VEVENT
BEGIN:VEVENT
DTSTART;TZID=America/Phoenix:20250118T180000
DTEND;TZID=America/Phoenix:20250118T210000
DTSTAMP:20260421T230334
CREATED:20241231T163617Z
LAST-MODIFIED:20241231T163617Z
UID:10001365-1737223200-1737234000@tempemarketplace.com
SUMMARY:Live Music - Znora
DESCRIPTION:Znora are a teen rock/funk band out of Tucson that plays 70s-90s covers and mixes in their own original music. They play many musical venues and events in Tucson\, Bisbee and Phoenix. \nThe front-man and lead guitarist\, Adrian Negrete received the Tucson Up and Coming Musician of the Year when he was 14. Now at 15\, he performs not only in Znora but also Rayos del Sol Mariachi and at the Tucson Folk Festival with his acoustic duo\, Cobalt Sunset.
URL:https://tempemarketplace.com/event/live-music-znora-2/
LOCATION:The District Stage
CATEGORIES:Live Music
ATTACH;FMTTYPE=image/png:https://tempemarketplace.com/wp-content/uploads/2024/12/Znora.png
END:VEVENT
BEGIN:VEVENT
DTSTART;TZID=America/Phoenix:20250121T090000
DTEND;TZID=America/Phoenix:20250126T200000
DTSTAMP:20260421T230334
CREATED:20250113T165634Z
LAST-MODIFIED:20250113T170705Z
UID:10001371-1737450000-1737921600@tempemarketplace.com
SUMMARY:Nothing Bundt Cakes - Grand Opening Week
DESCRIPTION:We would like to recognize some of the amazing people in our community with 20% OFF in-bakery cake purchases (just show badge/ID or uniform): \nTUESDAY – Heathcare Workers \nWEDNESDAY – Teachers & School Staff \nTHURSDAY – First Responder & Military \nSATURDAY – City Employees \nSUNDAY – ASU Students \nLocated between T-Mobile & GOLFTEC
URL:https://tempemarketplace.com/event/nothing-bundt-cakes-grand-opening-week/
CATEGORIES:Special Events
ATTACH;FMTTYPE=image/png:https://tempemarketplace.com/wp-content/uploads/2025/01/For-Grand-Opening-website.png
END:VEVENT
BEGIN:VEVENT
DTSTART;TZID=America/Phoenix:20250125T090000
DTEND;TZID=America/Phoenix:20250125T170000
DTSTAMP:20260421T230334
CREATED:20250113T170129Z
LAST-MODIFIED:20250113T170158Z
UID:10001372-1737795600-1737824400@tempemarketplace.com
SUMMARY:Nothing Bundt Cakes - Grand Opening - Free Bundtlet
DESCRIPTION:Free Confetti Bundtlet!* \nLocated between T-Mobile & GOLFTEC \n*Only valid at the Tempe Marketplace\, AZ bakery on 1/25/25\, while supplies last (up to 300). One free Bundtlet per guest. Substitutions are not permitted. Offer valid in bakery only.
URL:https://tempemarketplace.com/event/nothing-bundt-cake-grand-opening-free-bundtlet/
CATEGORIES:Special Events
ATTACH;FMTTYPE=image/png:https://tempemarketplace.com/wp-content/uploads/2025/01/For-Grand-Opening-website-1.png
END:VEVENT
BEGIN:VEVENT
DTSTART;TZID=America/Phoenix:20250125T090000
DTEND;TZID=America/Phoenix:20250125T200000
DTSTAMP:20260421T230334
CREATED:20250113T170523Z
LAST-MODIFIED:20250113T170523Z
UID:10001373-1737795600-1737835200@tempemarketplace.com
SUMMARY:Nothing Bundt Cakes - Ribbon Cutting & Donation
DESCRIPTION:Join us for a Ribbon Cutting with Tempe Chamber of Commerce at 10am! \nALL DAY: 20% of sales will be donated to Tempe Community Action\, a non-profit helping lift vulnerable households out of poverty and achieve stability.
URL:https://tempemarketplace.com/event/nothing-bundt-cakes-ribbon-cutting-donation/
CATEGORIES:Special Events
ATTACH;FMTTYPE=image/png:https://tempemarketplace.com/wp-content/uploads/2025/01/For-Grand-Opening-website-2.png
END:VEVENT
BEGIN:VEVENT
DTSTART;TZID=America/Phoenix:20250125T180000
DTEND;TZID=America/Phoenix:20250125T210000
DTSTAMP:20260421T230334
CREATED:20241231T164646Z
LAST-MODIFIED:20241231T164646Z
UID:10001366-1737828000-1737838800@tempemarketplace.com
SUMMARY:Live Music - New Philosophy
DESCRIPTION:The music of “New Philosophy” blends elements of Rock\, Pop\, Folk\, R & B\, Jazz\, Reggae\, and Acoustic into Cover tunes and Original compositions. This Phoenix/Scottsdale based band has the makings of great rock combos not seen\, heard or experienced too often. \nComparisons to Eagles/Don Henley\, Bryan Adams and Sting/Police and Beatles have been mentioned.  Drummer Daniel Villanueva lays down a firm & steady groove for Bassist Chris Sabbarese to punctuate.  Guitarists Michael V and EO Hammer fill the mid and upper register with superb chording’s\, as Michael’s (Vocals) catchy and sophisticated melodies are sung with passion. \nNew Philosophy performs a wide variety of adult contemporary cover & original music from the ’70’s to the present without being too heavy in any direction.
URL:https://tempemarketplace.com/event/live-music-new-philosophy-2/
LOCATION:The District Stage
CATEGORIES:Live Music
ATTACH;FMTTYPE=image/jpeg:https://tempemarketplace.com/wp-content/uploads/2024/12/New-Philosophy.jpg
END:VEVENT
BEGIN:VEVENT
DTSTART;TZID=America/Phoenix:20250201T180000
DTEND;TZID=America/Phoenix:20250201T210000
DTSTAMP:20260421T230334
CREATED:20241231T170001Z
LAST-MODIFIED:20241231T170001Z
UID:10001367-1738432800-1738443600@tempemarketplace.com
SUMMARY:Live Music - MT and the Streamliners
DESCRIPTION:Unleash the Power of Classic Rock and Blues! \nGet ready for a night of soulful vibes and electrifying tunes as we bring you a Classic Rock and Blues Performance by MT and The Streamliners that will transport you back in time and set your spirit free!
URL:https://tempemarketplace.com/event/live-music-mt-and-the-streamliners-3/
LOCATION:The District Stage
CATEGORIES:Live Music
ATTACH;FMTTYPE=image/jpeg:https://tempemarketplace.com/wp-content/uploads/2024/12/MT-and-The-Streamliners-jpeg.jpg
END:VEVENT
BEGIN:VEVENT
DTSTART;VALUE=DATE:20250206
DTEND;VALUE=DATE:20250228
DTSTAMP:20260421T230334
CREATED:20241028T211722Z
LAST-MODIFIED:20250312T174059Z
UID:10001331-1738800000-1740700799@tempemarketplace.com
SUMMARY:Dave & Buster's - Bachata Addiction Dance Night
DESCRIPTION:Dave & Buster’s Tempe presents Bachata Dancing on the Rooftop Patio! Hosted by Bachata Addiction \nEVERY THURSDAY \n\n\n\nMarch 13th | 8PM – 1AM\nMarch 20th | 8PM – 1AM\nMarch 27th | 8PM – 1AM\n\n\n\nLESSONS START @ 8PM \n$10 COVER AT THE DOOR FROM 8PM – 9PM FOR LESSONS \nOPEN DANCING 9PM – 1AM \n$5 COVER AT THE DOOR \nMUST BE 21+ FOR ENTRY \nVisit phoenixbachata.com for more details.
URL:https://tempemarketplace.com/event/dave-busters-bachata-addiction-dance-night-2/
LOCATION:Dave & Busters
ATTACH;FMTTYPE=image/jpeg:https://tempemarketplace.com/wp-content/uploads/2024/04/Bachata-Addiction-Flyer.jpg
END:VEVENT
BEGIN:VEVENT
DTSTART;TZID=America/Phoenix:20250208T180000
DTEND;TZID=America/Phoenix:20250208T210000
DTSTAMP:20260421T230334
CREATED:20250204T191220Z
LAST-MODIFIED:20250204T191220Z
UID:10001382-1739037600-1739048400@tempemarketplace.com
SUMMARY:Live Music - Scarlet Eclipse
DESCRIPTION:Join us for a night of Live Music at the District Stage! Sip & Stroll during the show! Guests aged 21+ can pop into any participating restaurant\, order a cocktail\, beer\, or wine\, and enjoy it in designated outdoor areas in The District at Tempe Marketplace.
URL:https://tempemarketplace.com/event/live-music-scarlet-eclipse/
LOCATION:The District Stage
CATEGORIES:Live Music
ATTACH;FMTTYPE=image/jpeg:https://tempemarketplace.com/wp-content/uploads/2025/02/Scarlett-Eclipse.jpg
END:VEVENT
BEGIN:VEVENT
DTSTART;VALUE=DATE:20250214
DTEND;VALUE=DATE:20250215
DTSTAMP:20260421T230334
CREATED:20250107T172142Z
LAST-MODIFIED:20250107T172142Z
UID:10001370-1739491200-1739577599@tempemarketplace.com
SUMMARY:Dave & Buster's Valentine's Day Special
DESCRIPTION:LEVEL UP YOUR LOVE THIS V-DAY WITH OUR EXCLUSIVE PACKAGE FOR TWO! \n \nPURCHASE BUNDLE HERE \nQuestions? Contact Emily Oviatt at (480) 281-8508 or emily.oviatt@daveandbusters.com \nOnce purchased\, all tickets are non-refundable and non-transferrable. One ticket is valid for 2 guests. Unlimited Video Game Play is good for non-redemption games ONLY. Unlimited Video Game Play excludes ticketed\, specialty\, and crane games. Ticketed\, specialty\, and crane games can be accessed with the 100 chips loaded onto the Power Card. Restrictions May Apply. See Store for Details.
URL:https://tempemarketplace.com/event/dave-busters-valentines-day-special/
LOCATION:Dave & Busters
ATTACH;FMTTYPE=image/png:https://tempemarketplace.com/wp-content/uploads/2025/01/Screenshot-2025-01-07-101838.png
END:VEVENT
BEGIN:VEVENT
DTSTART;TZID=America/Phoenix:20250214T090000
DTEND;TZID=America/Phoenix:20250214T200000
DTSTAMP:20260421T230334
CREATED:20250127T190259Z
LAST-MODIFIED:20250127T191626Z
UID:10001376-1739523600-1739563200@tempemarketplace.com
SUMMARY:Nothing Bundt Cakes Puppy Love Fundraiser
DESCRIPTION:Purchase a sweet treat from Nothing Bundt Cakes at Tempe Marketplace this Valentine’s Day and make a difference for pets in need! \n\n20% of proceeds from sales on 2/14 will directly support the Arizona Humane Society.\nAHS will be on-site from 12:00pm – 2:00 PM with a puppy cuddle bunch featuring shelter pets!\n\nYour purchase will help save lives and bring hope to pets waiting for their furever homes.
URL:https://tempemarketplace.com/event/nothing-bundt-cakes-puppy-love-fundraiser/
LOCATION:Nothing Bundt Cakes\, Tempe Marketplace 2010 E Rio Salado Pkwy #120\, Tempe\, AZ\, 85281\, United States
CATEGORIES:Special Events
ATTACH;FMTTYPE=image/png:https://tempemarketplace.com/wp-content/uploads/2025/01/916x355-1.png
END:VEVENT
BEGIN:VEVENT
DTSTART;TZID=America/Phoenix:20250215T100000
DTEND;TZID=America/Phoenix:20250412T110000
DTSTAMP:20260421T230334
CREATED:20250122T210550Z
LAST-MODIFIED:20250303T161555Z
UID:10001375-1739613600-1744455600@tempemarketplace.com
SUMMARY:lululemon Sip & Sweat Series
DESCRIPTION:Join lululemon at The District Stage Saturday mornings for a free stage workout series with different instructors each week! Bring water and a yoga mat! \nEach week is a chance to enter to win a $500 Mind & Body Boost gift card package* \nWork hard\, Sip Harder! Reward yourself with a post-workout Sip & Stroll cocktail!** \n$10 Mimosa | $5 Value Mimosa \n$8 Screwdriver | $4 Value Screwdriver \nSaturday\, March 8 · 10 – 10:45am – F45 – RESERVE YOUR SPOT \nSaturday\, March 15 · 10 – 10:45am – ASU Sun Devil Fitness Complex – RESERVE YOUR SPOT \nSaturday\, March 29 · 10 – 10:45am – Rumble Boxing – RESERVE YOUR SPOT \nSaturday\, April 5 · 10 – 10:45am – Club Pilates – RESERVE YOUR SPOT \nSaturday\, April 12 · 10 – 10:45am – Frame Tempe – RESERVE YOUR SPOT \n  \n*Each week scan the QR code at the class to enter to win\, 1 entry per person per class. Winner will be chosen after the last class and contacted via email. Prize includes $250 lululemon gift card\, $150 Nike gift card\, $50 Nekter Juice gift card and $50 Mad Greens gift card. Must be present at a minimum of one class to enter. Must be a resident of Arizona. Must be 18 years or older to enter. \n**Above menu pricing available only at Sip & Sweat events at the Sip & Stroll mobile bar\, provided by Dave & Buster’s. Must be 21+ to consume alcohol.
URL:https://tempemarketplace.com/event/lululemon-sip-sweat-series/
LOCATION:The District Stage
CATEGORIES:Special Events
ATTACH;FMTTYPE=image/jpeg:https://tempemarketplace.com/wp-content/uploads/2025/01/TMP-2025-Sip-and-Sweat-WEBSITE-916x355-Promo.jpg
END:VEVENT
BEGIN:VEVENT
DTSTART;TZID=America/Phoenix:20250215T180000
DTEND;TZID=America/Phoenix:20250215T210000
DTSTAMP:20260421T230334
CREATED:20241231T170146Z
LAST-MODIFIED:20241231T170146Z
UID:10001368-1739642400-1739653200@tempemarketplace.com
SUMMARY:Live Music - Nina Speaking
DESCRIPTION:Nina Speaking are playing the best songs from the 90s. They cover songs from the best genre defining artists from Rock\, Alternative\, Pop-Rock\, Punk\, and more. They have been playing throughout the Valley since 2013 and provide an entertaining show that everyone can enjoy.
URL:https://tempemarketplace.com/event/live-music-nina-speaking-4/
LOCATION:The District Stage
CATEGORIES:Live Music
ATTACH;FMTTYPE=image/jpeg:https://tempemarketplace.com/wp-content/uploads/2024/12/Nina-Speaking.jpg
END:VEVENT
BEGIN:VEVENT
DTSTART;VALUE=DATE:20250228
DTEND;VALUE=DATE:20250301
DTSTAMP:20260421T230334
CREATED:20250130T201917Z
LAST-MODIFIED:20250130T201917Z
UID:10001381-1740700800-1740787199@tempemarketplace.com
SUMMARY:Make Your Own Mug Clay Workshop at As You Wish
DESCRIPTION:Friday. February 28th | 6:00PM – 9:00PM | $35 All Inclusive \nWhether you’re a beginner or a clay enthusiast\, this workshop is perfect for a fun night out\, a creative date night\, or some relaxing me-time. Walk away with a one-of-a-kind mug to enjoy for years to come! \nREGISTER HERE
URL:https://tempemarketplace.com/event/make-your-own-mug-clay-workshop-at-as-you-wish/
LOCATION:As You Wish
ATTACH;FMTTYPE=image/png:https://tempemarketplace.com/wp-content/uploads/2025/01/3-4.png
END:VEVENT
BEGIN:VEVENT
DTSTART;TZID=America/Phoenix:20250301T180000
DTEND;TZID=America/Phoenix:20250301T210000
DTSTAMP:20260421T230334
CREATED:20250212T225048Z
LAST-MODIFIED:20250212T225048Z
UID:10001383-1740852000-1740862800@tempemarketplace.com
SUMMARY:Live Music - Posterchild
DESCRIPTION:Posterchild is Matt Kahler: artist\, producer\, singer-songwriter\, and multi-instrumentalist from Phoenix\, Arizona\, USA. Under his former moniker\, rx Soul\, he garnered over 20 million plays on Spotify alone and opened for Alternative Chart-topping bands like SHAED\, Bob Moses\, and Missio. Now\, he looks forward. As Posterchild\, he brings together his passion for left-field production\, his knack for honest storytelling\, and his soulful\, nostalgic vocals to create something truly unique. 
URL:https://tempemarketplace.com/event/live-music-posterchild/
LOCATION:The District Stage
CATEGORIES:Live Music
ATTACH;FMTTYPE=image/jpeg:https://tempemarketplace.com/wp-content/uploads/2025/02/Posterchild.jpg
END:VEVENT
BEGIN:VEVENT
DTSTART;TZID=America/Phoenix:20250308T180000
DTEND;TZID=America/Phoenix:20250308T210000
DTSTAMP:20260421T230334
CREATED:20250212T225343Z
LAST-MODIFIED:20250212T225343Z
UID:10001384-1741456800-1741467600@tempemarketplace.com
SUMMARY:Live Music - Halloday
DESCRIPTION:Halloday is a four-piece\, Tempe-Based Dreampop band that likes to venture into the realms of the Shoegaze\, Post-Punk\, and Goth music genre. With versatile musicians\, they have learned to cover and been inspired by songs from bands like The Cure\, Slowdive\, My Bloody Valentine\, Mazzy Star\, and many more. 
URL:https://tempemarketplace.com/event/live-music-halloday-2/
LOCATION:The District Stage
CATEGORIES:Live Music
ATTACH;FMTTYPE=image/png:https://tempemarketplace.com/wp-content/uploads/2025/02/Halloday-Band-Picture.png
END:VEVENT
BEGIN:VEVENT
DTSTART;VALUE=DATE:20250312
DTEND;VALUE=DATE:20250331
DTSTAMP:20260421T230334
CREATED:20241028T210950Z
LAST-MODIFIED:20250312T174624Z
UID:10001328-1741737600-1743379199@tempemarketplace.com
SUMMARY:Dave & Buster's - Havana Salsa Dance Night
DESCRIPTION:Dave & Buster’s Tempe presents Havana Salsa Dancing on the Rooftop Patio! Hosted by Brenda \nEVERY WEDNESDAY & SUNDAY \n\n\n\nWednesday\, March 12th | 7PM – 12AM\nSunday\, March 16th | 7PM – 12AM\nWednesday\, March 19th | 7PM – 12AM\nSunday\, March 23rd | 7PM – 12AM\nWednesday\, March 26th | 7PM – 12AM\nSunday\, March 30th | 7PM – 12AM\n\n\n\nLESSONS START @ 7PM \nOPEN DANCING 8:30PM – 12AM \n$5 COVER AT THE DOOR \nMUST BE 21+ FOR ENTRY \nVisit www.facebook.com/havananightsarizona for more details
URL:https://tempemarketplace.com/event/dave-busters-havana-salsa-dance-night-2/
LOCATION:Dave & Busters
ATTACH;FMTTYPE=image/jpeg:https://tempemarketplace.com/wp-content/uploads/2024/04/Havana-Dance-Nights-Banner-1.jpg
END:VEVENT
BEGIN:VEVENT
DTSTART;VALUE=DATE:20250313
DTEND;VALUE=DATE:20250328
DTSTAMP:20260421T230334
CREATED:20241028T211618Z
LAST-MODIFIED:20250312T173851Z
UID:10001330-1741824000-1743119999@tempemarketplace.com
SUMMARY:Dave & Buster's - Drone Racing Viewing
DESCRIPTION:Dave & Buster’s Tempe presents Indoor Drone Race Viewing! Meet & talk with members of the Drone Racing Community & watch them race their course! \nEVERY THURSDAY \n\n\n\nMarch 13th | 7PM – 10PM\nMarch 20th | 7PM – 10PM\nMarch 27th | 7PM – 10PM\n\n\n\nAll Ages Welcome!
URL:https://tempemarketplace.com/event/dave-busters-drone-racing-viewing-2/
LOCATION:Dave & Busters
ATTACH;FMTTYPE=image/png:https://tempemarketplace.com/wp-content/uploads/2024/04/Drone-Racing-Event-Banner.png
END:VEVENT
END:VCALENDAR