BEGIN:VCALENDAR
VERSION:2.0
PRODID:-//Tempe Marketplace - ECPv6.15.20//NONSGML v1.0//EN
CALSCALE:GREGORIAN
METHOD:PUBLISH
X-ORIGINAL-URL:https://tempemarketplace.com
X-WR-CALDESC:Events for Tempe Marketplace
REFRESH-INTERVAL;VALUE=DURATION:PT1H
X-Robots-Tag:noindex
X-PUBLISHED-TTL:PT1H
BEGIN:VTIMEZONE
TZID:America/Phoenix
BEGIN:STANDARD
TZOFFSETFROM:-0700
TZOFFSETTO:-0700
TZNAME:MST
DTSTART:20240101T000000
END:STANDARD
END:VTIMEZONE
BEGIN:VEVENT
DTSTART;TZID=America/Phoenix:20250802T193000
DTEND;TZID=America/Phoenix:20250802T213000
DTSTAMP:20260424T031953
CREATED:20250717T171842Z
LAST-MODIFIED:20250730T204438Z
UID:10001411-1754163000-1754170200@tempemarketplace.com
SUMMARY:Sam's Club Kickoff Event
DESCRIPTION:Sam’s Club is OPENING SOON! Mark your calendars for their Kickoff Event! \nSaturday August 2nd | 7:30pm – 9:30pm \nLocated in the Sam’s Club parking lot \nBring the family and enjoy: \n\nlive music\nice cream truck\nphoto booth\nSam’s Club Mobile Cafe Truck\ngames for the family\n\nThen come back for the official Ribbon Cutting Ceremony and opening on Thursday\, August 7th @ 8am!
URL:https://tempemarketplace.com/event/kickoff/
LOCATION:Sam’s Club
CATEGORIES:Special Events
ATTACH;FMTTYPE=image/png:https://tempemarketplace.com/wp-content/uploads/2025/07/KICKOFF-EVENT-916x355-1.png
END:VEVENT
BEGIN:VEVENT
DTSTART;TZID=America/Phoenix:20250803T100000
DTEND;TZID=America/Phoenix:20250803T120000
DTSTAMP:20260424T031953
CREATED:20250729T220109Z
LAST-MODIFIED:20250729T220230Z
UID:10001415-1754215200-1754222400@tempemarketplace.com
SUMMARY:Kids Fashion Show Casting Calls
DESCRIPTION:August 3rd\, 2025 | 10AM -12PM | Casting Calls \nExciting News!! Tempe Marketplace is hosting a Kids Casting Call presented by SLE\, Steve LeVine Entertainment. \nDon’t miss out this is a perfect opportunity for kids ages 5 to 12 to shine and have fun! \nLocation: In the space between Spencer’s and Pacsun
URL:https://tempemarketplace.com/event/kids-fashion-casting-calls/
ATTACH;FMTTYPE=image/png:https://tempemarketplace.com/wp-content/uploads/2025/07/3-1.png
END:VEVENT
BEGIN:VEVENT
DTSTART;TZID=America/Phoenix:20250807T080000
DTEND;TZID=America/Phoenix:20250809T210000
DTSTAMP:20260424T031954
CREATED:20250729T205049Z
LAST-MODIFIED:20250729T210037Z
UID:10001413-1754553600-1754773200@tempemarketplace.com
SUMMARY:Sam's Club Grand Opening
DESCRIPTION:Join Sam’s club for their Grand Opening on August 7th at 8am with the Ribbon Cutting Ceremony. \nPLUS\, don’t miss out on fun activities\, food samples\, specialty items\, and members-only prices all weekend long! \nLocated in the Sam’s club parking lot
URL:https://tempemarketplace.com/event/sams-club-grand-opening/
CATEGORIES:Special Events
ATTACH;FMTTYPE=image/png:https://tempemarketplace.com/wp-content/uploads/2025/07/Sams_Club_V_Logo.png
END:VEVENT
BEGIN:VEVENT
DTSTART;TZID=America/Phoenix:20250809T120000
DTEND;TZID=America/Phoenix:20250809T150000
DTSTAMP:20260424T031954
CREATED:20250730T170732Z
LAST-MODIFIED:20250730T171130Z
UID:10001416-1754740800-1754751600@tempemarketplace.com
SUMMARY:Recess Play It Forward Event
DESCRIPTION:Play It Forward | 12:00PM- 3:00PM | August 9th\, 2025  \nRecess the newest 90s inspired game bar is hosting a “Play it Forward” event – a high energy\, tournament-style fundraiser. All of the proceed from this event will support the Arizona Local Non-Profit\, Becoming Grace Foundation. This event a 3-hour event and starts at 12:00PM\, but doors will open at 11:45AM \nWhat is included for $45: \n\n⁠Entry into a Team Based Game Tournament\n3 Rotating Zones: Axe throwing\, Game Show\, and Playground Style Games\n1 Free Drink (Yes\, Adult Beverages Count!)\nDJ\, Dance Vibes\, Prizes + Raffle Entries\nPRIZES For Winning Teams\n\nCome Solo or Bring a Team! We’ll group you on arrival if needed. It’s perfect for friends\, couples\, or team bonding with coworkers and office staff. \nLearn more about the Becoming Grace Foundation and why this “Play it Forward” event matters HERE \nGet Your Tickets to This Event HERE
URL:https://tempemarketplace.com/event/forwardevent/
CATEGORIES:Special Events
ATTACH;FMTTYPE=image/png:https://tempemarketplace.com/wp-content/uploads/2025/07/DSC00226-2.png
END:VEVENT
BEGIN:VEVENT
DTSTART;TZID=America/Phoenix:20250810T100000
DTEND;TZID=America/Phoenix:20250810T120000
DTSTAMP:20260424T031954
CREATED:20250729T215922Z
LAST-MODIFIED:20250729T220621Z
UID:10001414-1754820000-1754827200@tempemarketplace.com
SUMMARY:Kids Fashion Show Casting Calls
DESCRIPTION:August 10th\, 2025 | 10AM -12PM | Casting Calls \nExciting News!! Tempe Marketplace is hosting a Kids Casting Call presented by SLE\, Steve LeVine Entertainment. \nDon’t miss out this is a perfect opportunity for kids ages 5 to 12 to shine and have fun! \nLocation: In the space between Spencer’s and Pacsun
URL:https://tempemarketplace.com/event/fashion/
CATEGORIES:Special Events
ATTACH;FMTTYPE=image/png:https://tempemarketplace.com/wp-content/uploads/2025/07/5-1.png
END:VEVENT
BEGIN:VEVENT
DTSTART;VALUE=DATE:20250823
DTEND;VALUE=DATE:20250825
DTSTAMP:20260424T031954
CREATED:20250818T162247Z
LAST-MODIFIED:20250818T211750Z
UID:10001420-1755907200-1756079999@tempemarketplace.com
SUMMARY:K-POP Demon Hunters Sing Along
DESCRIPTION:August 23rd and August 24th K-POP Demon Hunter Sing Along at Harkins. \nSing Along to Help Seal the Honmoon! \nShow Times:\nAugust 23rd: \n\nCINEXL\n\n12:00PM\n2:30PM\n5:00PM\n\n\nDigital\n\n3:00PM\n8:00PM\n\n\n\nAugust 24th: \n\nDigital\n\n3:00PM\n8:00PM\n\n\n\nTickets Are on Sale Now – Including in CINEXL\nGet Your Tickets HERE \n 
URL:https://tempemarketplace.com/event/k-pop-demon-hunters-sing-along-2/
LOCATION:Harkins\, 2000 E Rio Salado Pkwy Ste1150\, Tempe\, AZ\, 851281\, United States
ATTACH;FMTTYPE=image/jpeg:https://tempemarketplace.com/wp-content/uploads/2025/08/Harkins-K-POP-Demon-Hunters-Sing-Along1200x627-1.jpg
END:VEVENT
BEGIN:VEVENT
DTSTART;VALUE=DATE:20250823
DTEND;VALUE=DATE:20250918
DTSTAMP:20260424T031954
CREATED:20250826T171809Z
LAST-MODIFIED:20250826T172006Z
UID:10001422-1755907200-1758153599@tempemarketplace.com
SUMMARY:Harry Potter Return to Hogwarts Series at Harkins
DESCRIPTION:Harry Potter Series Showing | August 23rd through September 17th\n \nWizards\, Witches\, and Muggles\, prepare to Return to Hogwarts! \nThe spell is cast! From August 23 through September 17\, relive the enchantment of the wizarding world with the Harry Potter Back to Hogwarts series at Tempe Marketplace. \nSee all eight films for only $35 with the All-Access Pass\, no Floo Powder required! \nGET YOUR TICKETS HERE \nPlus\, Harkins Awards Members receive a $5 Bonus Award with every Season Pass purchased. \n 
URL:https://tempemarketplace.com/event/harry-potter-return-to-hogwarts-series-at-harkins/
LOCATION:Harkins\, 2000 E Rio Salado Pkwy Ste1150\, Tempe\, AZ\, 851281\, United States
CATEGORIES:Special Events
ATTACH;FMTTYPE=image/jpeg:https://tempemarketplace.com/wp-content/uploads/2025/08/Harkins-Back-to-Hogwarts-Series-2025-1200x627-1.jpg
END:VEVENT
END:VCALENDAR