BEGIN:VCALENDAR
VERSION:2.0
PRODID:-//Tempe Marketplace - ECPv6.15.20//NONSGML v1.0//EN
CALSCALE:GREGORIAN
METHOD:PUBLISH
X-ORIGINAL-URL:https://tempemarketplace.com
X-WR-CALDESC:Events for Tempe Marketplace
REFRESH-INTERVAL;VALUE=DURATION:PT1H
X-Robots-Tag:noindex
X-PUBLISHED-TTL:PT1H
BEGIN:VTIMEZONE
TZID:America/Phoenix
BEGIN:STANDARD
TZOFFSETFROM:-0700
TZOFFSETTO:-0700
TZNAME:MST
DTSTART:20240101T000000
END:STANDARD
END:VTIMEZONE
BEGIN:VEVENT
DTSTART;VALUE=DATE:20250823
DTEND;VALUE=DATE:20250918
DTSTAMP:20260424T014902
CREATED:20250826T171809Z
LAST-MODIFIED:20250826T172006Z
UID:10001422-1755907200-1758153599@tempemarketplace.com
SUMMARY:Harry Potter Return to Hogwarts Series at Harkins
DESCRIPTION:Harry Potter Series Showing | August 23rd through September 17th\n \nWizards\, Witches\, and Muggles\, prepare to Return to Hogwarts! \nThe spell is cast! From August 23 through September 17\, relive the enchantment of the wizarding world with the Harry Potter Back to Hogwarts series at Tempe Marketplace. \nSee all eight films for only $35 with the All-Access Pass\, no Floo Powder required! \nGET YOUR TICKETS HERE \nPlus\, Harkins Awards Members receive a $5 Bonus Award with every Season Pass purchased. \n 
URL:https://tempemarketplace.com/event/harry-potter-return-to-hogwarts-series-at-harkins/
LOCATION:Harkins\, 2000 E Rio Salado Pkwy Ste1150\, Tempe\, AZ\, 851281\, United States
CATEGORIES:Special Events
ATTACH;FMTTYPE=image/jpeg:https://tempemarketplace.com/wp-content/uploads/2025/08/Harkins-Back-to-Hogwarts-Series-2025-1200x627-1.jpg
END:VEVENT
BEGIN:VEVENT
DTSTART;VALUE=DATE:20250907
DTEND;VALUE=DATE:20260108
DTSTAMP:20260424T014902
CREATED:20250826T202835Z
LAST-MODIFIED:20250826T202836Z
UID:10001424-1757203200-1767830399@tempemarketplace.com
SUMMARY:NFL Watching Party at Recess
DESCRIPTION:Whole NFL Season Long | Every Sunday & Monday \nDuring this year’s NFL season Recess will be hosting a watch party where you can play games while watching your favorite NFL team play. There is going to be food and drink specials along with a raffle prize each week for an NFL jersey of your choice! \nIf you purchase a Red Bull drink during the watch party\, you are entered to win into the raffle! The winner will be Sunday night during the halftime of the last game being played. \nTerms and Conditions May Apply
URL:https://tempemarketplace.com/event/nfl-watching-party-at-recess/
LOCATION:rec
CATEGORIES:Special Events
ATTACH;FMTTYPE=image/jpeg:https://tempemarketplace.com/wp-content/uploads/2025/08/DSC01379-2-1.jpg
END:VEVENT
BEGIN:VEVENT
DTSTART;VALUE=DATE:20250910
DTEND;VALUE=DATE:20250913
DTSTAMP:20260424T014902
CREATED:20250826T172753Z
LAST-MODIFIED:20250826T172753Z
UID:10001423-1757462400-1757721599@tempemarketplace.com
SUMMARY:Downton Abbey: The Grand Finale at Harkins
DESCRIPTION:Downton Abbey: The Grand Finale | SEPTEMBER 10th and 12th  \nThe time has come to say goodbye. \nGet tickets NOW to experience Downton Abbey: The Grand Finale at Harkins on September 12! \nPLUS: Be the first to see it at the Early Access Screening on September 10! \nGRAND FINALE TICKETS HERE\nEARLY ACCESS TICKETS HERE \n 
URL:https://tempemarketplace.com/event/downton-abbey-the-grand-finale-at-harkins/
LOCATION:Harkins\, 2000 E Rio Salado Pkwy Ste1150\, Tempe\, AZ\, 851281\, United States
CATEGORIES:Special Events
ATTACH;FMTTYPE=image/jpeg:https://tempemarketplace.com/wp-content/uploads/2025/08/Harkins-Downton-Abbey-The-Grand-Finale-X-1200x627-1.jpg
END:VEVENT
BEGIN:VEVENT
DTSTART;TZID=America/Phoenix:20250913T200000
DTEND;TZID=America/Phoenix:20250913T200000
DTSTAMP:20260424T014902
CREATED:20250826T191931Z
LAST-MODIFIED:20250826T192156Z
UID:10001425-1757793600-1757793600@tempemarketplace.com
SUMMARY:Bachata N' Boots
DESCRIPTION:Join us for Country & Bachata Dancing on a wood dance floor at The District Stage! \n21+ | $10 entry at arrival \nLessons: \nCountry Swing 8 – 8:30pm \nBachata 8:30 – 9pm \nLine Dance 9 – 9:30pm \nLine\, Swing & Bachata Dancing 9:30pm – 2am
URL:https://tempemarketplace.com/event/bachata-n-boots/
LOCATION:The District Stage
CATEGORIES:Special Events
ATTACH;FMTTYPE=image/png:https://tempemarketplace.com/wp-content/uploads/2025/08/Bachata-N-Boots-Sep-13-Square-Flyer.png
END:VEVENT
BEGIN:VEVENT
DTSTART;VALUE=DATE:20250920
DTEND;VALUE=DATE:20250922
DTSTAMP:20260424T014902
CREATED:20250826T215428Z
LAST-MODIFIED:20250826T215646Z
UID:10001426-1758326400-1758499199@tempemarketplace.com
SUMMARY:Live Music at Recess
DESCRIPTION:Live Music | 8:00PM – 12:00AM | September 20th & 21st \nThe band Travis William & Kentucky Straight is coming down from Colorado to Recess on September 20th and 21st. \nDoors will open at 6:00PM where there is going to be live line dancing lessons held from 6:00PM to 7:30PM! \nTrevor Toms is the opener for both nights from 7:45PM -8:30PM. \nTravis William & Kentucky Straight will be playing the rest of the night. \nGET YOUR TICKETS NOW \nDon’t miss out on the weekend of live music\, recess games and line dancing!!
URL:https://tempemarketplace.com/event/live-music-at-recess/
LOCATION:Recess
CATEGORIES:Special Events
ATTACH;FMTTYPE=image/jpeg:https://tempemarketplace.com/wp-content/uploads/2025/08/312231213123213123.jpg
END:VEVENT
BEGIN:VEVENT
DTSTART;TZID=America/Phoenix:20250927T110000
DTEND;TZID=America/Phoenix:20250928T180000
DTSTAMP:20260424T014902
CREATED:20250827T220415Z
LAST-MODIFIED:20250827T220415Z
UID:10001427-1758970800-1759082400@tempemarketplace.com
SUMMARY:Tamagotchi USA Road Trip
DESCRIPTION:Fresh off the launch of a brand-new Tamagotchi Paradise\, this FREE pop-up tour is bringing the whimsical\, colorful world of Tamagotchi to Tempe Marketplace. \nYou’ll be among the first to try the newest device in person all while enjoying interactive games\, creative stations\, and colorful surprises at every turn. \nLocated in The District between Victoria’s Secret and Journey’s \nSaturday\, September 27 | 11am – 6pm \nSunday\, September 28 | 11am – 6pm 
URL:https://tempemarketplace.com/event/tamagotchi-usa-road-trip/
CATEGORIES:Special Events
ATTACH;FMTTYPE=image/png:https://tempemarketplace.com/wp-content/uploads/2025/08/Screenshot-565.png
END:VEVENT
END:VCALENDAR