BEGIN:VCALENDAR
VERSION:2.0
PRODID:-//Tempe Marketplace - ECPv6.15.20//NONSGML v1.0//EN
CALSCALE:GREGORIAN
METHOD:PUBLISH
X-ORIGINAL-URL:https://tempemarketplace.com
X-WR-CALDESC:Events for Tempe Marketplace
REFRESH-INTERVAL;VALUE=DURATION:PT1H
X-Robots-Tag:noindex
X-PUBLISHED-TTL:PT1H
BEGIN:VTIMEZONE
TZID:America/Phoenix
BEGIN:STANDARD
TZOFFSETFROM:-0700
TZOFFSETTO:-0700
TZNAME:MST
DTSTART:20240101T000000
END:STANDARD
END:VTIMEZONE
BEGIN:VEVENT
DTSTART;VALUE=DATE:20250907
DTEND;VALUE=DATE:20260108
DTSTAMP:20260422T004746
CREATED:20250826T202835Z
LAST-MODIFIED:20250826T202836Z
UID:10001424-1757203200-1767830399@tempemarketplace.com
SUMMARY:NFL Watching Party at Recess
DESCRIPTION:Whole NFL Season Long | Every Sunday & Monday \nDuring this year’s NFL season Recess will be hosting a watch party where you can play games while watching your favorite NFL team play. There is going to be food and drink specials along with a raffle prize each week for an NFL jersey of your choice! \nIf you purchase a Red Bull drink during the watch party\, you are entered to win into the raffle! The winner will be Sunday night during the halftime of the last game being played. \nTerms and Conditions May Apply
URL:https://tempemarketplace.com/event/nfl-watching-party-at-recess/
LOCATION:rec
CATEGORIES:Special Events
ATTACH;FMTTYPE=image/jpeg:https://tempemarketplace.com/wp-content/uploads/2025/08/DSC01379-2-1.jpg
END:VEVENT
BEGIN:VEVENT
DTSTART;TZID=America/Phoenix:20251003T180000
DTEND;TZID=America/Phoenix:20251003T203000
DTSTAMP:20260422T004746
CREATED:20250917T211554Z
LAST-MODIFIED:20250917T211555Z
UID:10001428-1759514400-1759523400@tempemarketplace.com
SUMMARY:Family Game Night LIVE Series
DESCRIPTION:Bring the whole family for three exciting Friday nights of live game show action on the jumbo LED screen at The District Stage. \nCompete for prizes and take home the trophy! Guests 21+ can enjoy alcoholic beverages from the Sip & Stroll mobile bar. Complimentary popcorn and cotton candy\, while supplies last. \nOCT 3 | 6:30pm – 8:30pm Survey Says ****Limited Spots Left**** \nOCT 10 | 6:30pm – 8:30pm Trivia Wars \nOCT 17 | 6:30pm – 8:30pm Challenge Quiz Show \nCheck-in starts at 6pm\, games begin at 6:30pm \nRSVP HERE for access to the event.\nAttendees can show their ticket on their phone (in the Eventbrite app\, in their email\, or as a screenshot). \nThe order of teams that play will be random using a raffle ticketing system. Every guest receives a raffle ticket at check-in. When the games begin\, the host will call a raffle number. If the winning number is someone who is present with their entire team/group\, they will proceed to the stage to play. If their team is not there yet\, they have the option to put their raffle ticket back in the drawing and wait to be called later OR they can let the host randomly assign them with other players to make a team. \nTime slots cannot be reserved. \nAll contestants will be entered into a free raffle. Prizes and values won in the raffle will be random. Prizes vary from gift cards to items valued up to $500. \nAll prizes will be awarded at the event. Winner must be present to receive. \nAll activities are available on a first-come\, first-served basis\, pending reservations. Participation is at your own risk. Event subject to change or cancellation due to weather or unforeseen circumstances. By attending\, you consent to the photography and video recording of you for promotional use. No purchase necessary to enter prize drawings. Children must be supervised by a parent or guardian at all times.
URL:https://tempemarketplace.com/event/gamenight-2-2/
LOCATION:The District Stage
CATEGORIES:Special Events
ATTACH;FMTTYPE=image/jpeg:https://tempemarketplace.com/wp-content/uploads/2025/08/TMP2025-Family-Game-Night-WEBSITE-916x355-Promo.jpg
END:VEVENT
BEGIN:VEVENT
DTSTART;TZID=America/Phoenix:20251003T180000
DTEND;TZID=America/Phoenix:20251003T210000
DTSTAMP:20260422T004746
CREATED:20250930T155317Z
LAST-MODIFIED:20250930T155347Z
UID:10001432-1759514400-1759525200@tempemarketplace.com
SUMMARY:Ghosts & Gourds Clay Workshop
DESCRIPTION:Friday\, October 3rd | 6-9pm | $35 all inclusive \n In this open-style Ghosts & Gourds Clay Workshop\, you’ll craft your own spooky creations\, ghostly lanterns\, pumpkin candle holders\, eerie dishes\, and more. \nWe’ll provide all the tools\, clay\, and inspiration you need to bring your Halloween vision to life. Whether you’re making something ghoulishly chic or frighteningly fun\, you’ll leave with a one-of-a-kind handmade piece perfect for the season. \nRegistration Required
URL:https://tempemarketplace.com/event/ghosts-gourds-clay-workshop/
LOCATION:As You Wish
CATEGORIES:Special Events
ATTACH;FMTTYPE=image/webp:https://tempemarketplace.com/wp-content/uploads/2025/09/ghost-.webp
END:VEVENT
BEGIN:VEVENT
DTSTART;TZID=America/Phoenix:20251004T180000
DTEND;TZID=America/Phoenix:20251004T210000
DTSTAMP:20260422T004746
CREATED:20250812T232436Z
LAST-MODIFIED:20250930T165222Z
UID:10001417-1759600800-1759611600@tempemarketplace.com
SUMMARY:Live Music - School of Rock Sugar Skulls
DESCRIPTION:Join us for a night of Live Music at the District Stage featuring School of Rock Sugar Skulls! \nThe School of Rock Sugar Skulls is the “Varsity Team” of musicians\, comprised of students ages 13 – 18\, from School of Rock Gilbert and School of Rock Scottsdale. These musicians endure a grueling audition every 8 months to earn their spot in the band! They perform throughout the valley at community events\, live music venues\, restaurants and clubs. They even perform as openers for national touring acts such as Quiet Riot! Each of these musicians participate in the School of Rock performance program\, and they serve as mentors in our schools and ambassadors for our mission of enriching lives through performance-based music education. 
URL:https://tempemarketplace.com/event/sugar/
LOCATION:The District Stage
CATEGORIES:Live Music
ATTACH;FMTTYPE=image/jpeg:https://tempemarketplace.com/wp-content/uploads/2025/08/sugarskullsgrouppic-5.jpg
END:VEVENT
BEGIN:VEVENT
DTSTART;TZID=America/Phoenix:20251011T180000
DTEND;TZID=America/Phoenix:20251011T210000
DTSTAMP:20260422T004746
CREATED:20251007T173708Z
LAST-MODIFIED:20251007T173708Z
UID:10001435-1760205600-1760216400@tempemarketplace.com
SUMMARY:Live Music - Alan Conquest
DESCRIPTION:Join us for a night of Live Music at the District Stage featuring Alan Conquest! \nThe Alan Conquest Band is a blend of original music and country/rock playing many of today’s popular country artists. Our new single ” You Still Matter to Me” is currently being played on 94.1 KDRE Country Radio in Phoenix
URL:https://tempemarketplace.com/event/live-music-alan-conquest-2/
LOCATION:The District Stage
CATEGORIES:Live Music
ATTACH;FMTTYPE=image/jpeg:https://tempemarketplace.com/wp-content/uploads/2025/10/The-Alan-Conquest-Band.jpg
END:VEVENT
BEGIN:VEVENT
DTSTART;TZID=America/Phoenix:20251017T180000
DTEND;TZID=America/Phoenix:20251017T203000
DTSTAMP:20260422T004746
CREATED:20250828T193030Z
LAST-MODIFIED:20251009T182828Z
UID:10001430-1760724000-1760733000@tempemarketplace.com
SUMMARY:Family Game Night LIVE Series
DESCRIPTION:Bring the whole family for three exciting Friday nights of live game show action on the jumbo LED screen at The District Stage. \nCompete for prizes and take home the trophy! Guests 21+ can enjoy alcoholic beverages from the Sip & Stroll mobile bar. Complimentary popcorn and cotton candy\, while supplies last. \n  \nOCT 10 | 6:30pm – 8:30pm Trivia Wars ****RESCHEDULED DUE TO WEATHER**** \nOCT 17 | 6:30pm – 8:30pm Challenge Quiz Show \nOCT 24 | 6:30pm – 8:30pm Trivia Wars NEW DATE \nCheck-in starts at 6pm\, games begin at 6:30pm \nRSVP HERE for access to the event.\nIf the event is sold out for team participation\, you’re still invited to join the fun!\nCome cheer on your friends during game night\, enjoy complimentary popcorn and cotton candy (while supplies last)\, grab a drink from our Sip & Stroll mobile bar\, and receive free raffle tickets for a chance to win big prizes. \nAttendees can show their ticket on their phone (in the Eventbrite app\, in their email\, or as a screenshot). \nThe order of teams that play will be random using a raffle ticketing system. Every guest receives a raffle ticket at check-in. When the games begin\, the host will call a raffle number. If the winning number is someone who is present with their entire team/group\, they will proceed to the stage to play. If their team is not there yet\, they have the option to put their raffle ticket back in the drawing and wait to be called later OR they can let the host randomly assign them with other players to make a team. \nTime slots cannot be reserved. \nAll contestants will be entered into a free raffle. Prizes and values won in the raffle will be random. Prizes vary from gift cards to items valued up to $500. \nAll prizes will be awarded at the event. Winner must be present to receive. \nAll activities are available on a first-come\, first-served basis\, pending reservations. Participation is at your own risk. Event subject to change or cancellation due to weather or unforeseen circumstances. By attending\, you consent to the photography and video recording of you for promotional use. No purchase necessary to enter prize drawings. Children must be supervised by a parent or guardian at all times.
URL:https://tempemarketplace.com/event/gamenight-2/2025-10-17/
LOCATION:The District Stage
CATEGORIES:Special Events
ATTACH;FMTTYPE=image/jpeg:https://tempemarketplace.com/wp-content/uploads/2025/08/TMP2025-Family-Game-Night-WEBSITE-916x355-Promo.jpg
END:VEVENT
BEGIN:VEVENT
DTSTART;TZID=America/Phoenix:20251018T180000
DTEND;TZID=America/Phoenix:20251018T210000
DTSTAMP:20260422T004746
CREATED:20250812T232705Z
LAST-MODIFIED:20250930T165352Z
UID:10001418-1760810400-1760821200@tempemarketplace.com
SUMMARY:Live Music - Honey Girl
DESCRIPTION:Join us for a night of Live Music at the District Stage featuring Honey Girl!\n\n\nHoney girl is a country music singer / songwriter known for her powerful storytelling and dynamic performances. Fronted by lead singer/songwriter Kira Brown and featuring a blend of seasoned musicians\, including Scotty Johnson of the Gin Blossoms\, Honey girl continues to captivate audiences with her unique sound and heartfelt lyrics.  Born and raised under the open skies of the desert southwest\, Brown was once hailed as the “Karaoke” queen. From karaoke contests to a Bonafide country music singer/songwriter singing stories about life\, love and more\, Honey girl has quickly become a fan favorite.  Though a natural lyricist and writer\, songwriting became a priority for Brown when organic collaborations began with veteran guitarist and musician Johnson of the grammy-nominated Arizona band\, Gin Blossoms. Johnson has also served as a member of the acclaimed bands\, Roger Clyne & The Peacemakers and Elvis Before Noon. Connecting with other veteran Arizona-based musicians\, Honey girl aims to bring “good timing friends” together through her original music and select cover favorites at every performance.
URL:https://tempemarketplace.com/event/honey/
LOCATION:The District Stage
CATEGORIES:Live Music
ATTACH;FMTTYPE=image/jpeg:https://tempemarketplace.com/wp-content/uploads/2025/08/GetAttachmentThumbnail.jpg
END:VEVENT
BEGIN:VEVENT
DTSTART;TZID=America/Phoenix:20251022T173000
DTEND;TZID=America/Phoenix:20251022T193000
DTSTAMP:20260422T004746
CREATED:20250909T172446Z
LAST-MODIFIED:20251001T155430Z
UID:10001431-1761154200-1761161400@tempemarketplace.com
SUMMARY:Sweet Street Spooktacular
DESCRIPTION:The annual Halloween event is back at Tempe Marketplace in The District! Trick-or-treat from shop to shop\, enjoy enchanting melodies\, boo-tiful costume contests\, and frighteningly fun prizes!
URL:https://tempemarketplace.com/event/sweet-street-spooktacular/
LOCATION:The District Stage
CATEGORIES:Special Events
ATTACH;FMTTYPE=image/jpeg:https://tempemarketplace.com/wp-content/uploads/2025/09/TMP-2025-Spooktacular-WEBSITE-916x355-Promo.jpg
END:VEVENT
BEGIN:VEVENT
DTSTART;TZID=America/Phoenix:20251024T180000
DTEND;TZID=America/Phoenix:20251024T203000
DTSTAMP:20260422T004746
CREATED:20251009T185424Z
LAST-MODIFIED:20251009T185531Z
UID:10001429-1761328800-1761337800@tempemarketplace.com
SUMMARY:Family Game Night LIVE Series
DESCRIPTION:Bring the whole family for three exciting Friday nights of live game show action on the jumbo LED screen at The District Stage. \nCompete for prizes and take home the trophy! Guests 21+ can enjoy alcoholic beverages from the Sip & Stroll mobile bar. Complimentary popcorn and cotton candy\, while supplies last. \n  \nOCT 10 | 6:30pm – 8:30pm Trivia Wars ****RESCHEDULED DUE TO WEATHER**** \nOCT 17 | 6:30pm – 8:30pm Challenge Quiz Show \nOCT 24 | 6:30pm – 8:30pm Trivia Wars NEW DATE \nCheck-in starts at 6pm\, games begin at 6:30pm \nRSVP HERE for access to the event.\n\nCome cheer on your friends during game night\, enjoy complimentary popcorn and cotton candy (while supplies last)\, grab a drink from our Sip & Stroll mobile bar\, and receive free raffle tickets for a chance to win big prizes. \nAttendees can show their ticket on their phone (in the Eventbrite app\, in their email\, or as a screenshot). \nThe order of teams that play will be random using a raffle ticketing system. Every guest receives a raffle ticket at check-in. When the games begin\, the host will call a raffle number. If the winning number is someone who is present with their entire team/group\, they will proceed to the stage to play. If their team is not there yet\, they have the option to put their raffle ticket back in the drawing and wait to be called later OR they can let the host randomly assign them with other players to make a team. \nTime slots cannot be reserved. \nAll contestants will be entered into a free raffle. Prizes and values won in the raffle will be random. Prizes vary from gift cards to items valued up to $500. \nAll prizes will be awarded at the event. Winner must be present to receive. \nAll activities are available on a first-come\, first-served basis\, pending reservations. Participation is at your own risk. Event subject to change or cancellation due to weather or unforeseen circumstances. By attending\, you consent to the photography and video recording of you for promotional use. No purchase necessary to enter prize drawings. Children must be supervised by a parent or guardian at all times.
URL:https://tempemarketplace.com/event/gamenight-2-3/
LOCATION:The District Stage
CATEGORIES:Special Events
ATTACH;FMTTYPE=image/jpeg:https://tempemarketplace.com/wp-content/uploads/2025/08/TMP2025-Family-Game-Night-WEBSITE-916x355-Promo.jpg
END:VEVENT
BEGIN:VEVENT
DTSTART;TZID=America/Phoenix:20251025T180000
DTEND;TZID=America/Phoenix:20251025T210000
DTSTAMP:20260422T004746
CREATED:20250812T233133Z
LAST-MODIFIED:20251007T171243Z
UID:10001419-1761415200-1761426000@tempemarketplace.com
SUMMARY:Live Music - Cut The Chord
DESCRIPTION:Join us for a night of Live Music at the District Stage featuring Cut The Chord! \nCut the Chord is a dynamic band based in the West Valley\, Phoenix\, known for blending 90s alternative rock and blues into a captivating\, distinctive sound. Featuring members from diverse backgrounds\, they deliver soulful originals and inventive covers that connect deeply with audiences. Whether performing at intimate venues or lively stages\, their energy and passion make them a standout in Phoenix’s music scene.
URL:https://tempemarketplace.com/event/chord/
LOCATION:The District Stage
CATEGORIES:Live Music
ATTACH;FMTTYPE=image/jpeg:https://tempemarketplace.com/wp-content/uploads/2025/08/1000015368.jpg
END:VEVENT
BEGIN:VEVENT
DTSTART;TZID=America/Phoenix:20251029T090000
DTEND;TZID=America/Phoenix:20251029T100000
DTSTAMP:20260422T004746
CREATED:20251029T161353Z
LAST-MODIFIED:20251029T161353Z
UID:10001441-1761728400-1761732000@tempemarketplace.com
SUMMARY:Weekly Yoga Sculpt Series with lululemon
DESCRIPTION:Join us every Wednesday morning from 9am-10am* for a rejuvenating 60-minute all-level Yoga Sculpt class hosted by Nomad Yoga. \nThis energizing flow blends strength and movement to kickstart your day with clarity\, connection and community. \nAll levels are welcome\, just bring your mat\, water and good vibes! \nRESERVE YOUR SPOT HERE \n*No class on 11/5 or 11/26
URL:https://tempemarketplace.com/event/weekly-yoga-sculpt-series-with-lululemon/2025-10-29/
LOCATION:The District Stage
CATEGORIES:Special Events
ATTACH;FMTTYPE=image/jpeg:https://tempemarketplace.com/wp-content/uploads/2025/10/NomadYogaBanner-e1767629351189.jpeg
END:VEVENT
END:VCALENDAR