BEGIN:VCALENDAR
VERSION:2.0
PRODID:-//Tempe Marketplace - ECPv6.15.20//NONSGML v1.0//EN
CALSCALE:GREGORIAN
METHOD:PUBLISH
X-WR-CALNAME:Tempe Marketplace
X-ORIGINAL-URL:https://tempemarketplace.com
X-WR-CALDESC:Events for Tempe Marketplace
REFRESH-INTERVAL;VALUE=DURATION:PT1H
X-Robots-Tag:noindex
X-PUBLISHED-TTL:PT1H
BEGIN:VTIMEZONE
TZID:America/Phoenix
BEGIN:STANDARD
TZOFFSETFROM:-0700
TZOFFSETTO:-0700
TZNAME:MST
DTSTART:20240101T000000
END:STANDARD
END:VTIMEZONE
BEGIN:VEVENT
DTSTART;VALUE=DATE:20250907
DTEND;VALUE=DATE:20260108
DTSTAMP:20260421T230201
CREATED:20250826T202835Z
LAST-MODIFIED:20250826T202836Z
UID:10001424-1757203200-1767830399@tempemarketplace.com
SUMMARY:NFL Watching Party at Recess
DESCRIPTION:Whole NFL Season Long | Every Sunday & Monday \nDuring this year’s NFL season Recess will be hosting a watch party where you can play games while watching your favorite NFL team play. There is going to be food and drink specials along with a raffle prize each week for an NFL jersey of your choice! \nIf you purchase a Red Bull drink during the watch party\, you are entered to win into the raffle! The winner will be Sunday night during the halftime of the last game being played. \nTerms and Conditions May Apply
URL:https://tempemarketplace.com/event/nfl-watching-party-at-recess/
LOCATION:rec
CATEGORIES:Special Events
ATTACH;FMTTYPE=image/jpeg:https://tempemarketplace.com/wp-content/uploads/2025/08/DSC01379-2-1.jpg
END:VEVENT
BEGIN:VEVENT
DTSTART;TZID=America/Phoenix:20251101T090000
DTEND;TZID=America/Phoenix:20251101T130000
DTSTAMP:20260421T230201
CREATED:20251024T170748Z
LAST-MODIFIED:20251024T185346Z
UID:10001439-1761987600-1762002000@tempemarketplace.com
SUMMARY:Walk-N-Roll for Spina Bifida
DESCRIPTION:Walk-N-Roll for Spina Bifida is a FREE family friendly\, non-competitive one mile fundraiser that raises awareness about Spina Bifida and celebrates the accomplishments of those living with Spina Bifida & the challenges it brings. \nCheck-in opens at 9am\, Walk begins at 10am \nREGISTER HERE
URL:https://tempemarketplace.com/event/walk-n-roll-for-spina-bifida-2/
LOCATION:The District Stage
CATEGORIES:Special Events
ATTACH;FMTTYPE=image/png:https://tempemarketplace.com/wp-content/uploads/2025/10/2025-DINO-DANCE-WNR-SITE-COVER-IMAGE-w-date-LRSMALL.png
END:VEVENT
BEGIN:VEVENT
DTSTART;TZID=America/Phoenix:20251105T090000
DTEND;TZID=America/Phoenix:20251105T100000
DTSTAMP:20260421T230201
CREATED:20251029T161353Z
LAST-MODIFIED:20251029T161353Z
UID:10001442-1762333200-1762336800@tempemarketplace.com
SUMMARY:Weekly Yoga Sculpt Series with lululemon
DESCRIPTION:Join us every Wednesday morning from 9am-10am* for a rejuvenating 60-minute all-level Yoga Sculpt class hosted by Nomad Yoga. \nThis energizing flow blends strength and movement to kickstart your day with clarity\, connection and community. \nAll levels are welcome\, just bring your mat\, water and good vibes! \nRESERVE YOUR SPOT HERE \n*No class on 11/5 or 11/26
URL:https://tempemarketplace.com/event/weekly-yoga-sculpt-series-with-lululemon/2025-11-05/
LOCATION:The District Stage
CATEGORIES:Special Events
ATTACH;FMTTYPE=image/jpeg:https://tempemarketplace.com/wp-content/uploads/2025/10/NomadYogaBanner-e1767629351189.jpeg
END:VEVENT
BEGIN:VEVENT
DTSTART;TZID=America/Phoenix:20251105T170000
DTEND;TZID=America/Phoenix:20251105T190000
DTSTAMP:20260421T230201
CREATED:20251017T163428Z
LAST-MODIFIED:20251017T163428Z
UID:10001436-1762362000-1762369200@tempemarketplace.com
SUMMARY:On the Road with Let ABC15 Know
DESCRIPTION:Consumer investigator Christel Bell will be coming out to host an event in our District Stage area where the public can get free legal advice from lawyers and experts for a variety of issues including family law\, landlord/tenant and automobile.
URL:https://tempemarketplace.com/event/on-the-road-with-let-abc15-know/
LOCATION:The District Stage
CATEGORIES:Special Events
ATTACH;FMTTYPE=image/jpeg:https://tempemarketplace.com/wp-content/uploads/2025/10/OTR-FULL-EVENT-PAGE-916X355.jpg
END:VEVENT
BEGIN:VEVENT
DTSTART;TZID=America/Phoenix:20251108T110000
DTEND;TZID=America/Phoenix:20251108T160000
DTSTAMP:20260421T230201
CREATED:20251028T163611Z
LAST-MODIFIED:20251028T193020Z
UID:10001440-1762599600-1762617600@tempemarketplace.com
SUMMARY:The Makers Hive Market
DESCRIPTION:Enjoy local artisan vendors in The District Street from 11am to 4pm. Guests can stroll\, shop and sip through nearly 50 unique and diverse small businesses. Discover custom clothing bars\, permanent jewelry\, hand-crafted candles\, and more! \n  \nVendors: \n\n\n\nWild Dreams Candle Co LLC\n\n\nClo\n\n\nVoiidBloom\n\n\nAll For Zen x Pure West\n\n\nFlor de María\n\n\nCute Creations by Gabi\n\n\nKreations.with.a.K LLC\n\n\nTwisted Bee Farms\n\n\nLite Brite Candles\n\n\nCaked glam co\n\n\nBlue Owl Pottery\n\n\nDesert Uplands Trading Co.\n\n\nTheMysticarbor\n\n\nAsphalt Flowers and Plants\n\n\nRadiant Esthetics\n\n\nLibbyLetters\n\n\nCarranzaHoneyFarms LLC\n\n\nMaking It Nerdy\n\n\nHandsome Hounds LLC\n\n\nEvie Beadie\n\n\nOriginal Yak Chews/MDS Enterprises\n\n\nLena’s Tienda\n\n\nRosa Pastel\n\n\nCaron & Co\n\n\nGreyRose Art\n\n\namblushART\n\n\nBailey Reding Ceramics\n\n\nPASHA Turkish Towels\n\n\nThe Salted Roots\n\n\nMdcrochetcorner\n\n\nPactattooink LLC\n\n\nGWBN Design\n\n\nRoxi Candle\n\n\nBeauty and body by Olivia\n\n\nFarm Fresh To You\n\n\nMeraki Natural Balance\n\n\nLucky 13 Designs\n\n\nBoho Misfit Candle Collection\n\n\nLittle Stone Clay\n\n\nDesert Creations\n\n\nTimeless Finds\n\n\nGenevivesGems\n\n\n\n 
URL:https://tempemarketplace.com/event/the-makers-hive-market-2/
LOCATION:The District Street
CATEGORIES:Special Events
ATTACH;FMTTYPE=image/png:https://tempemarketplace.com/wp-content/uploads/2025/10/Event-Page_Nov-2025.png
END:VEVENT
BEGIN:VEVENT
DTSTART;TZID=America/Phoenix:20251108T180000
DTEND;TZID=America/Phoenix:20251108T210000
DTSTAMP:20260421T230201
CREATED:20251105T171708Z
LAST-MODIFIED:20251105T171708Z
UID:10001501-1762624800-1762635600@tempemarketplace.com
SUMMARY:Live Music - The Flare
DESCRIPTION:The Flare is a popular live music band based in Tempe\, AZ.  They play feel-good rock\, pop and dance music. The Flare plays live music throughout the year for the Arizona Diamondbacks\, Phoenix 10K Marathon\, Tempe Lakes Beach and Tennis Club\, Pier 54 and other venues and events in and around the Valley.   
URL:https://tempemarketplace.com/event/live-music-the-flare-2/
LOCATION:The District Stage
CATEGORIES:Live Music
ATTACH;FMTTYPE=image/jpeg:https://tempemarketplace.com/wp-content/uploads/2025/04/The-Flare-Leigh-Farr.jpg
END:VEVENT
BEGIN:VEVENT
DTSTART;TZID=America/Phoenix:20251112T090000
DTEND;TZID=America/Phoenix:20251112T100000
DTSTAMP:20260421T230201
CREATED:20251029T161353Z
LAST-MODIFIED:20251029T161353Z
UID:10001443-1762938000-1762941600@tempemarketplace.com
SUMMARY:Weekly Yoga Sculpt Series with lululemon
DESCRIPTION:Join us every Wednesday morning from 9am-10am* for a rejuvenating 60-minute all-level Yoga Sculpt class hosted by Nomad Yoga. \nThis energizing flow blends strength and movement to kickstart your day with clarity\, connection and community. \nAll levels are welcome\, just bring your mat\, water and good vibes! \nRESERVE YOUR SPOT HERE \n*No class on 11/5 or 11/26
URL:https://tempemarketplace.com/event/weekly-yoga-sculpt-series-with-lululemon/2025-11-12/
LOCATION:The District Stage
CATEGORIES:Special Events
ATTACH;FMTTYPE=image/jpeg:https://tempemarketplace.com/wp-content/uploads/2025/10/NomadYogaBanner-e1767629351189.jpeg
END:VEVENT
BEGIN:VEVENT
DTSTART;TZID=America/Phoenix:20251113T180000
DTEND;TZID=America/Phoenix:20251113T210000
DTSTAMP:20260421T230201
CREATED:20250930T155855Z
LAST-MODIFIED:20251023T233700Z
UID:10001433-1763056800-1763067600@tempemarketplace.com
SUMMARY:Friendsgiving at As You Wish
DESCRIPTION:Thursday\, November 16th | 6:00pm-9pm | $17 + Price of Pottery \nCelebrate Friendsgiving with your besties at As You Wish! Your admission includes paints\, supplies\, glazing\, firing\, a festive mocktail\, and exclusive seasonal traceables to spark your creativity. Pottery pieces are purchased separately so you can paint whatever you like\, from dinnerware to mugs to seasonal favorites. Reserve your spot and join us for a Friendsgiving feast of creativity! \nRegistration Required 
URL:https://tempemarketplace.com/event/friendsgiving/
LOCATION:As You Wish
CATEGORIES:Special Events
ATTACH;FMTTYPE=application/pdf:https://tempemarketplace.com/wp-content/uploads/2025/09/Untitled-design.pdf
END:VEVENT
BEGIN:VEVENT
DTSTART;TZID=America/Phoenix:20251115T180000
DTEND;TZID=America/Phoenix:20251115T210000
DTSTAMP:20260421T230201
CREATED:20251105T172636Z
LAST-MODIFIED:20251105T172636Z
UID:10001503-1763229600-1763240400@tempemarketplace.com
SUMMARY:Live Music - Cameron Jameson
DESCRIPTION:Cameron Jameson is an indie singer-songwriter and multi-instrumentalist based in Flagstaff\, Arizona. Blending soulful acoustic textures with atmospheric production\, his sound evokes introspective moods and emotional storytelling.
URL:https://tempemarketplace.com/event/cameron-jameson/
LOCATION:The District Stage
CATEGORIES:Live Music
ATTACH;FMTTYPE=image/jpeg:https://tempemarketplace.com/wp-content/uploads/2025/11/Cameron-Jameson_1_square.jpg-002.jpeg
END:VEVENT
BEGIN:VEVENT
DTSTART;TZID=America/Phoenix:20251117T080000
DTEND;TZID=America/Phoenix:20251220T170000
DTSTAMP:20260421T230201
CREATED:20251117T210755Z
LAST-MODIFIED:20251213T205743Z
UID:10001508-1763366400-1766250000@tempemarketplace.com
SUMMARY:SALVATION ARMY ANGEL TREE
DESCRIPTION:Every child deserves a Merry Christmas this year! \nSupport the Salvation Army Christmas Angel Tree located across H&M from November 14 – December 20. The Angel Tree contains tags with the name\, age\, clothing size\, and toy requests of an underprivileged child. Pick a tag\, purchase an item and give a child a gift they could only dream of! \nHOURS:\nMonday – Thursday\, 10:00 am – 7:00 pm\nFriday & Saturday\, 10:00 am – 9:00 pm\nSunday 11:00 am – 6:00 pm
URL:https://tempemarketplace.com/event/salvation-army-angel-tree/
CATEGORIES:Holiday Happenings
ATTACH;FMTTYPE=image/jpeg:https://tempemarketplace.com/wp-content/uploads/2023/10/503A4712.jpg
END:VEVENT
BEGIN:VEVENT
DTSTART;TZID=America/Phoenix:20251119T090000
DTEND;TZID=America/Phoenix:20251119T100000
DTSTAMP:20260421T230201
CREATED:20251029T161353Z
LAST-MODIFIED:20251029T161353Z
UID:10001444-1763542800-1763546400@tempemarketplace.com
SUMMARY:Weekly Yoga Sculpt Series with lululemon
DESCRIPTION:Join us every Wednesday morning from 9am-10am* for a rejuvenating 60-minute all-level Yoga Sculpt class hosted by Nomad Yoga. \nThis energizing flow blends strength and movement to kickstart your day with clarity\, connection and community. \nAll levels are welcome\, just bring your mat\, water and good vibes! \nRESERVE YOUR SPOT HERE \n*No class on 11/5 or 11/26
URL:https://tempemarketplace.com/event/weekly-yoga-sculpt-series-with-lululemon/2025-11-19/
LOCATION:The District Stage
CATEGORIES:Special Events
ATTACH;FMTTYPE=image/jpeg:https://tempemarketplace.com/wp-content/uploads/2025/10/NomadYogaBanner-e1767629351189.jpeg
END:VEVENT
BEGIN:VEVENT
DTSTART;TZID=America/Phoenix:20251123T123000
DTEND;TZID=America/Phoenix:20251123T140000
DTSTAMP:20260421T230201
CREATED:20251117T175955Z
LAST-MODIFIED:20251213T205334Z
UID:10001507-1763901000-1763906400@tempemarketplace.com
SUMMARY:Arizona Nutcracker
DESCRIPTION:A magical preview of the Arizona’s Nutcracker performance\, a holiday tradition for all ages to enjoy. \nPlease visit ​thearizonanutcracker.com for more details.
URL:https://tempemarketplace.com/event/arizona-nutcracker-2/
LOCATION:The District Stage
CATEGORIES:Special Events,Holiday Happenings
ATTACH;FMTTYPE=image/jpeg:https://tempemarketplace.com/wp-content/uploads/2024/11/AZ-Nutcracker-.jpg
END:VEVENT
BEGIN:VEVENT
DTSTART;TZID=America/Phoenix:20251126T090000
DTEND;TZID=America/Phoenix:20251126T100000
DTSTAMP:20260421T230201
CREATED:20251029T161353Z
LAST-MODIFIED:20251029T161353Z
UID:10001445-1764147600-1764151200@tempemarketplace.com
SUMMARY:Weekly Yoga Sculpt Series with lululemon
DESCRIPTION:Join us every Wednesday morning from 9am-10am* for a rejuvenating 60-minute all-level Yoga Sculpt class hosted by Nomad Yoga. \nThis energizing flow blends strength and movement to kickstart your day with clarity\, connection and community. \nAll levels are welcome\, just bring your mat\, water and good vibes! \nRESERVE YOUR SPOT HERE \n*No class on 11/5 or 11/26
URL:https://tempemarketplace.com/event/weekly-yoga-sculpt-series-with-lululemon/2025-11-26/
LOCATION:The District Stage
CATEGORIES:Special Events
ATTACH;FMTTYPE=image/jpeg:https://tempemarketplace.com/wp-content/uploads/2025/10/NomadYogaBanner-e1767629351189.jpeg
END:VEVENT
BEGIN:VEVENT
DTSTART;TZID=America/Phoenix:20251126T190000
DTEND;TZID=America/Phoenix:20251126T203000
DTSTAMP:20260421T230201
CREATED:20251024T165839Z
LAST-MODIFIED:20251213T205425Z
UID:10001438-1764183600-1764189000@tempemarketplace.com
SUMMARY:Holiday Tree Lighting
DESCRIPTION:Join us for an evening filled with joy\, warmth\, and the magic of the holiday season.  Don’t miss out on this magical evening that promises to create cherished memories for years. Enjoy free and festive activities\, live entertainment at The District Stage\, holiday performances\, the first snowfall of the season\, and more \n🎄Event Highlights🎄 \nFree Photos with Santa 6pm-9pm * break 745pm-815pm \nStrolling holiday characters\, including Mrs. Claus \nSip & Stroll bar brought to you by Dave & Buster’s. Enjoy festive cocktails as you watch the show in The District \nHot Chocolate Bar \nLight up toys for purchase \nWatch the magic of the first snowfall of the season \nStrike a pose at our holiday decor photo ops located near H &M \n$1\,500 package is up for grabs! Enter our raffle at the event for your chance to win BIG! Don’t miss out—100% of the proceeds will benefit Phoenix Children’s. **Drawing will be held in person at 8:22pm. Must be present to win \nWe want to give a big thank you to our sponsors for this event!
URL:https://tempemarketplace.com/event/holiday-tree-lighting/
CATEGORIES:Special Events,Holiday Happenings
ATTACH;FMTTYPE=image/jpeg:https://tempemarketplace.com/wp-content/uploads/2025/10/TMP-2025-Treelighting-WEBSITE-916x355-Promo.jpg
END:VEVENT
BEGIN:VEVENT
DTSTART;VALUE=DATE:20251128
DTEND;VALUE=DATE:20251201
DTSTAMP:20260421T230201
CREATED:20250930T160128Z
LAST-MODIFIED:20251121T220010Z
UID:10001434-1764288000-1764547199@tempemarketplace.com
SUMMARY:As You Wish - Clay Hand Impression Ornaments
DESCRIPTION:Clay Hand Impression Ornaments | November 28-30 | $25\n \nSchedule a quick 15-minute appointment to press your little one’s hand into clay\, and we’ll handle the rest. Our talented team with transform their print into a festive Santa ornament that’s painted\, glazed\, and kiln-fired\, ready to cherish for years to come. Recommended for kids 10 and under. \n Registration Required 
URL:https://tempemarketplace.com/event/ornaments/
LOCATION:As You Wish
ATTACH;FMTTYPE=image/png:https://tempemarketplace.com/wp-content/uploads/2025/09/download.png
END:VEVENT
END:VCALENDAR