BEGIN:VCALENDAR
VERSION:2.0
PRODID:-//Tempe Marketplace - ECPv6.15.20//NONSGML v1.0//EN
CALSCALE:GREGORIAN
METHOD:PUBLISH
X-WR-CALNAME:Tempe Marketplace
X-ORIGINAL-URL:https://tempemarketplace.com
X-WR-CALDESC:Events for Tempe Marketplace
REFRESH-INTERVAL;VALUE=DURATION:PT1H
X-Robots-Tag:noindex
X-PUBLISHED-TTL:PT1H
BEGIN:VTIMEZONE
TZID:America/Phoenix
BEGIN:STANDARD
TZOFFSETFROM:-0700
TZOFFSETTO:-0700
TZNAME:MST
DTSTART:20240101T000000
END:STANDARD
END:VTIMEZONE
BEGIN:VEVENT
DTSTART;VALUE=DATE:20250907
DTEND;VALUE=DATE:20260108
DTSTAMP:20260421T211446
CREATED:20250826T202835Z
LAST-MODIFIED:20250826T202836Z
UID:10001424-1757203200-1767830399@tempemarketplace.com
SUMMARY:NFL Watching Party at Recess
DESCRIPTION:Whole NFL Season Long | Every Sunday & Monday \nDuring this year’s NFL season Recess will be hosting a watch party where you can play games while watching your favorite NFL team play. There is going to be food and drink specials along with a raffle prize each week for an NFL jersey of your choice! \nIf you purchase a Red Bull drink during the watch party\, you are entered to win into the raffle! The winner will be Sunday night during the halftime of the last game being played. \nTerms and Conditions May Apply
URL:https://tempemarketplace.com/event/nfl-watching-party-at-recess/
LOCATION:rec
CATEGORIES:Special Events
ATTACH;FMTTYPE=image/jpeg:https://tempemarketplace.com/wp-content/uploads/2025/08/DSC01379-2-1.jpg
END:VEVENT
BEGIN:VEVENT
DTSTART;TZID=America/Phoenix:20251117T080000
DTEND;TZID=America/Phoenix:20251220T170000
DTSTAMP:20260421T211446
CREATED:20251117T210755Z
LAST-MODIFIED:20251213T205743Z
UID:10001508-1763366400-1766250000@tempemarketplace.com
SUMMARY:SALVATION ARMY ANGEL TREE
DESCRIPTION:Every child deserves a Merry Christmas this year! \nSupport the Salvation Army Christmas Angel Tree located across H&M from November 14 – December 20. The Angel Tree contains tags with the name\, age\, clothing size\, and toy requests of an underprivileged child. Pick a tag\, purchase an item and give a child a gift they could only dream of! \nHOURS:\nMonday – Thursday\, 10:00 am – 7:00 pm\nFriday & Saturday\, 10:00 am – 9:00 pm\nSunday 11:00 am – 6:00 pm
URL:https://tempemarketplace.com/event/salvation-army-angel-tree/
CATEGORIES:Holiday Happenings
ATTACH;FMTTYPE=image/jpeg:https://tempemarketplace.com/wp-content/uploads/2023/10/503A4712.jpg
END:VEVENT
BEGIN:VEVENT
DTSTART;TZID=America/Phoenix:20251203T090000
DTEND;TZID=America/Phoenix:20251203T100000
DTSTAMP:20260421T211446
CREATED:20251029T161353Z
LAST-MODIFIED:20251029T161353Z
UID:10001446-1764752400-1764756000@tempemarketplace.com
SUMMARY:Weekly Yoga Sculpt Series with lululemon
DESCRIPTION:Join us every Wednesday morning from 9am-10am* for a rejuvenating 60-minute all-level Yoga Sculpt class hosted by Nomad Yoga. \nThis energizing flow blends strength and movement to kickstart your day with clarity\, connection and community. \nAll levels are welcome\, just bring your mat\, water and good vibes! \nRESERVE YOUR SPOT HERE \n*No class on 11/5 or 11/26
URL:https://tempemarketplace.com/event/weekly-yoga-sculpt-series-with-lululemon/2025-12-03/
LOCATION:The District Stage
CATEGORIES:Special Events
ATTACH;FMTTYPE=image/jpeg:https://tempemarketplace.com/wp-content/uploads/2025/10/NomadYogaBanner-e1767629351189.jpeg
END:VEVENT
BEGIN:VEVENT
DTSTART;TZID=America/Phoenix:20251205T180000
DTEND;TZID=America/Phoenix:20251205T210000
DTSTAMP:20260421T211446
CREATED:20250818T211300Z
LAST-MODIFIED:20251202T193416Z
UID:10001421-1764957600-1764968400@tempemarketplace.com
SUMMARY:Merry & Bright Family Paint Night at As You Wish
DESCRIPTION:Friday\, December 5th | 6-9pm | $17+ price of pottery | Merry & Bright Family Paint Night \nBring the whole family to As You Wish Pottery for a festive night of painting\, music\, and memory-making. Sip a holiday mocktail while you paint with exclusive seasonal traceable\, then strike a pose in our photobooth full of fun props! Whether you’re crafting gifts or just enjoying time together\, it’s a night packed with holiday cheer\, creativity\, and cozy pajamas! Registration required. \nReserve Your Spot Here
URL:https://tempemarketplace.com/event/merrybright-2/
LOCATION:As You Wish
ATTACH;FMTTYPE=image/jpeg:https://tempemarketplace.com/wp-content/uploads/2025/08/BT3A6307.jpg
END:VEVENT
BEGIN:VEVENT
DTSTART;VALUE=DATE:20251206
DTEND;VALUE=DATE:20251208
DTSTAMP:20260421T211446
CREATED:20250130T201714Z
LAST-MODIFIED:20251202T190032Z
UID:10001380-1764979200-1765151999@tempemarketplace.com
SUMMARY:Clay Paw Impression Ornaments at As You Wish
DESCRIPTION:Saturday & Sunday\, December 6th & 7th | $25 each | Clay Paw Impression Ornaments – \nCapture your furry friend’s paw print in clay for a keepsake that lasts a lifetime. Schedule a quick 15-minute appointment\, and we’ll help you press their paw\, then handle the painting\, glazing\, and kiln-firing for you. These personalized ornaments make the sweetest gifts for pet lovers and a heartfelt way to celebrate your four-legged family member year after year! \nBOOK YOUR RESERVATION HERE
URL:https://tempemarketplace.com/event/pawimpression/
LOCATION:As You Wish
ATTACH;FMTTYPE=image/jpeg:https://tempemarketplace.com/wp-content/uploads/2025/01/BT3A6236-1.jpg
END:VEVENT
BEGIN:VEVENT
DTSTART;TZID=America/Phoenix:20251207T090000
DTEND;TZID=America/Phoenix:20251207T110000
DTSTAMP:20260421T211446
CREATED:20251107T223126Z
LAST-MODIFIED:20251223T184225Z
UID:10001506-1765098000-1765105200@tempemarketplace.com
SUMMARY:Breakfast with Santa at Dave & Buster's
DESCRIPTION:
URL:https://tempemarketplace.com/event/breakfast-with-santa-at-dave-busters/
LOCATION:Dave & Busters
CATEGORIES:Special Events,Holiday Happenings
ATTACH;FMTTYPE=image/png:https://tempemarketplace.com/wp-content/uploads/2025/11/breakfast-with-santa-916x355-1.png
END:VEVENT
BEGIN:VEVENT
DTSTART;TZID=America/Phoenix:20251210T090000
DTEND;TZID=America/Phoenix:20251210T100000
DTSTAMP:20260421T211446
CREATED:20251029T161353Z
LAST-MODIFIED:20251029T161353Z
UID:10001447-1765357200-1765360800@tempemarketplace.com
SUMMARY:Weekly Yoga Sculpt Series with lululemon
DESCRIPTION:Join us every Wednesday morning from 9am-10am* for a rejuvenating 60-minute all-level Yoga Sculpt class hosted by Nomad Yoga. \nThis energizing flow blends strength and movement to kickstart your day with clarity\, connection and community. \nAll levels are welcome\, just bring your mat\, water and good vibes! \nRESERVE YOUR SPOT HERE \n*No class on 11/5 or 11/26
URL:https://tempemarketplace.com/event/weekly-yoga-sculpt-series-with-lululemon/2025-12-10/
LOCATION:The District Stage
CATEGORIES:Special Events
ATTACH;FMTTYPE=image/jpeg:https://tempemarketplace.com/wp-content/uploads/2025/10/NomadYogaBanner-e1767629351189.jpeg
END:VEVENT
BEGIN:VEVENT
DTSTART;VALUE=DATE:20251212
DTEND;VALUE=DATE:20251225
DTSTAMP:20260421T211446
CREATED:20251211T164514Z
LAST-MODIFIED:20251213T204946Z
UID:10001512-1765497600-1766620799@tempemarketplace.com
SUMMARY:Snowfall Nights
DESCRIPTION:Shop\, stroll\, and soak in the season! Join us as snow falls from the sky and transforms The District Street into a living snow globe. \nFriday—Sunday\nDecember 12–15 & 19–21\n6:30 pm & 7:30 pm \nChristmas Eve\nHourly snowfall from 11am–7pm
URL:https://tempemarketplace.com/event/snowfall-nights-2025/
LOCATION:The District Street
CATEGORIES:Special Events,Holiday Happenings
ATTACH;FMTTYPE=image/jpeg:https://tempemarketplace.com/wp-content/uploads/2025/12/TMP-2025-Snow-Days-WEBSITE-624x413-Grid-Thumbnail.jpg
END:VEVENT
BEGIN:VEVENT
DTSTART;TZID=America/Phoenix:20251212T183000
DTEND;TZID=America/Phoenix:20251212T200000
DTSTAMP:20260421T211446
CREATED:20251202T192644Z
LAST-MODIFIED:20251213T205205Z
UID:10001510-1765564200-1765569600@tempemarketplace.com
SUMMARY:Do You Want to Paint A Snowman?
DESCRIPTION:Friday\, December 12th | 6:30-8:00pm | $35 all inclusive | Kid’s Paint Night – Do You Want To Paint a Snowman?\n\nLet it snow creativity! Kids will use a special sticker stencil to create this jolly snowman design\, then fill it in with bright\, cheerful colors just like a coloring book. With step-by-step guidance from our friendly instructor\, every painter will bring their snowman to life\, complete with candy cane and holiday cheer! Registration required. Register at\n\nREGISTER HERE
URL:https://tempemarketplace.com/event/snowman/
LOCATION:As You Wish
CATEGORIES:Holiday Happenings
ATTACH;FMTTYPE=image/jpeg:https://tempemarketplace.com/wp-content/uploads/2025/12/BT3A6315.jpg
END:VEVENT
BEGIN:VEVENT
DTSTART;TZID=America/Phoenix:20251213T180000
DTEND;TZID=America/Phoenix:20251213T210000
DTSTAMP:20260421T211446
CREATED:20251105T172729Z
LAST-MODIFIED:20251216T195329Z
UID:10001504-1765648800-1765659600@tempemarketplace.com
SUMMARY:Live Music - Hooter Blues
DESCRIPTION:Atlantic City\, NJ’s Hooter started his musical journey in earnest at the beginning of 1974. As a child\, he was greatly influenced by his father’s love of Benny Goodman and big band jazz. Having heard the Beatle’s version of Twist and Shout in 1963\, he was hooked on bluesy rock n’ roll. A few years later the Allman Brother’s version of One Way Out sealed the deal. Starting on guitar\, he bought his 1971 Fender Precision Bass in 1977 for a grand total of 150 dollars. Having done over 10\,000 gigs and counting at this point\, he’s definitely gotten his money’s worth! He’s played all over the US\, Canada and Europe\, including a tour of Israel in March 2000\, before moving to Phoenix/AZ in 2012\, where he’s been burning up stages ever since! Among many other accolades\, he’s been nominated for 2 AZ Blues Hall of Fame nominations\, as well as 5 WC Handy Awards nominations and countless US/international tours\, including the apex of the blues world\, The Chicago Blues Festival in 2000\, with Mississippi Delta Blues legend Big Jack Johnson.
URL:https://tempemarketplace.com/event/hooterblues/
LOCATION:The District Stage
CATEGORIES:Live Music
ATTACH;FMTTYPE=image/png:https://tempemarketplace.com/wp-content/uploads/2025/11/tmp-live-music-WEBSITE-1536x582-concert.png
END:VEVENT
BEGIN:VEVENT
DTSTART;TZID=America/Phoenix:20251217T090000
DTEND;TZID=America/Phoenix:20251217T100000
DTSTAMP:20260421T211446
CREATED:20251029T161353Z
LAST-MODIFIED:20251029T161353Z
UID:10001448-1765962000-1765965600@tempemarketplace.com
SUMMARY:Weekly Yoga Sculpt Series with lululemon
DESCRIPTION:Join us every Wednesday morning from 9am-10am* for a rejuvenating 60-minute all-level Yoga Sculpt class hosted by Nomad Yoga. \nThis energizing flow blends strength and movement to kickstart your day with clarity\, connection and community. \nAll levels are welcome\, just bring your mat\, water and good vibes! \nRESERVE YOUR SPOT HERE \n*No class on 11/5 or 11/26
URL:https://tempemarketplace.com/event/weekly-yoga-sculpt-series-with-lululemon/2025-12-17/
LOCATION:The District Stage
CATEGORIES:Special Events
ATTACH;FMTTYPE=image/jpeg:https://tempemarketplace.com/wp-content/uploads/2025/10/NomadYogaBanner-e1767629351189.jpeg
END:VEVENT
BEGIN:VEVENT
DTSTART;TZID=America/Phoenix:20251224T090000
DTEND;TZID=America/Phoenix:20251224T100000
DTSTAMP:20260421T211446
CREATED:20251029T161353Z
LAST-MODIFIED:20251029T161353Z
UID:10001449-1766566800-1766570400@tempemarketplace.com
SUMMARY:Weekly Yoga Sculpt Series with lululemon
DESCRIPTION:Join us every Wednesday morning from 9am-10am* for a rejuvenating 60-minute all-level Yoga Sculpt class hosted by Nomad Yoga. \nThis energizing flow blends strength and movement to kickstart your day with clarity\, connection and community. \nAll levels are welcome\, just bring your mat\, water and good vibes! \nRESERVE YOUR SPOT HERE \n*No class on 11/5 or 11/26
URL:https://tempemarketplace.com/event/weekly-yoga-sculpt-series-with-lululemon/2025-12-24/
LOCATION:The District Stage
CATEGORIES:Special Events
ATTACH;FMTTYPE=image/jpeg:https://tempemarketplace.com/wp-content/uploads/2025/10/NomadYogaBanner-e1767629351189.jpeg
END:VEVENT
BEGIN:VEVENT
DTSTART;TZID=America/Phoenix:20251231T090000
DTEND;TZID=America/Phoenix:20251231T100000
DTSTAMP:20260421T211446
CREATED:20251029T161353Z
LAST-MODIFIED:20251029T161353Z
UID:10001450-1767171600-1767175200@tempemarketplace.com
SUMMARY:Weekly Yoga Sculpt Series with lululemon
DESCRIPTION:Join us every Wednesday morning from 9am-10am* for a rejuvenating 60-minute all-level Yoga Sculpt class hosted by Nomad Yoga. \nThis energizing flow blends strength and movement to kickstart your day with clarity\, connection and community. \nAll levels are welcome\, just bring your mat\, water and good vibes! \nRESERVE YOUR SPOT HERE \n*No class on 11/5 or 11/26
URL:https://tempemarketplace.com/event/weekly-yoga-sculpt-series-with-lululemon/2025-12-31/
LOCATION:The District Stage
CATEGORIES:Special Events
ATTACH;FMTTYPE=image/jpeg:https://tempemarketplace.com/wp-content/uploads/2025/10/NomadYogaBanner-e1767629351189.jpeg
END:VEVENT
END:VCALENDAR