BEGIN:VCALENDAR
VERSION:2.0
PRODID:-//Tempe Marketplace - ECPv6.15.20//NONSGML v1.0//EN
CALSCALE:GREGORIAN
METHOD:PUBLISH
X-WR-CALNAME:Tempe Marketplace
X-ORIGINAL-URL:https://tempemarketplace.com
X-WR-CALDESC:Events for Tempe Marketplace
REFRESH-INTERVAL;VALUE=DURATION:PT1H
X-Robots-Tag:noindex
X-PUBLISHED-TTL:PT1H
BEGIN:VTIMEZONE
TZID:America/Phoenix
BEGIN:STANDARD
TZOFFSETFROM:-0700
TZOFFSETTO:-0700
TZNAME:MST
DTSTART:20250101T000000
END:STANDARD
END:VTIMEZONE
BEGIN:VEVENT
DTSTART;TZID=America/Phoenix:20260219T080000
DTEND;TZID=America/Phoenix:20260302T220000
DTSTAMP:20260421T170644
CREATED:20260218T204018Z
LAST-MODIFIED:20260219T154558Z
UID:10001513-1771488000-1772488800@tempemarketplace.com
SUMMARY:ReFABRICATE Denim Collection
DESCRIPTION:Your old jeans could walk the runway!\nTempe Marketplace is collecting gently used denim for local designers to transform into one-of-a-kind\, upcycled runway looks. \nDONATE NOW THROUGH MARCH 2\nDrop off your denim at The District Street near Dave & Busters \nGive your denim a second life. Support sustainable fashion. Watch the magic happen. \nThen see the transformation at the ReFABRICate Fashion Show on April 18. \nAll sizes and washes welcome.
URL:https://tempemarketplace.com/event/refabricate-denim-collection/
ATTACH;FMTTYPE=image/jpeg:https://tempemarketplace.com/wp-content/uploads/2026/02/TMP-Refabricate2026-WEBSITE-916x355-Promo.jpg
END:VEVENT
END:VCALENDAR