BEGIN:VCALENDAR
VERSION:2.0
PRODID:-//Tempe Marketplace - ECPv6.15.20//NONSGML v1.0//EN
CALSCALE:GREGORIAN
METHOD:PUBLISH
X-ORIGINAL-URL:https://tempemarketplace.com
X-WR-CALDESC:Events for Tempe Marketplace
REFRESH-INTERVAL;VALUE=DURATION:PT1H
X-Robots-Tag:noindex
X-PUBLISHED-TTL:PT1H
BEGIN:VTIMEZONE
TZID:America/Phoenix
BEGIN:STANDARD
TZOFFSETFROM:-0700
TZOFFSETTO:-0700
TZNAME:MST
DTSTART:20250101T000000
END:STANDARD
END:VTIMEZONE
BEGIN:VEVENT
DTSTART;TZID=America/Phoenix:20260422T160000
DTEND;TZID=America/Phoenix:20260422T200000
DTSTAMP:20260421T133027
CREATED:20260323T231425Z
LAST-MODIFIED:20260323T232459Z
UID:10001515-1776873600-1776888000@tempemarketplace.com
SUMMARY:Eco Pop - Fashion Week
DESCRIPTION:Tempe Marketplace is hosting Eco Pop for ECO Fashion Week by FABRIC.\nWednesday\, April 22nd | 4PM-8PM\nJoin us at FABRIC during Eco Fashion Week for Eco Pop\, a one-of-a-kind\, evening event celebrating sustainability and circular fashion! Shop our pop-up vendor shop\, featuring sustainable apparel and accessory brands and eco-conscious vendors. Don’t miss this opportunity to shop and support sustainability! \nGET TICKETS NOW\nWanna participate? Check out the links below for more details. \nVENDOR INFORMATION
URL:https://tempemarketplace.com/event/ecopop-2/
ATTACH;FMTTYPE=image/jpeg:https://tempemarketplace.com/wp-content/uploads/2026/03/Landscape-Eco-Pop-1.jpg
END:VEVENT
BEGIN:VEVENT
DTSTART;TZID=America/Phoenix:20260429T160000
DTEND;TZID=America/Phoenix:20260429T190000
DTSTAMP:20260421T133027
CREATED:20260402T164859Z
LAST-MODIFIED:20260402T232115Z
UID:10001518-1777478400-1777489200@tempemarketplace.com
SUMMARY:Relive Health Grand Opening Celebration
DESCRIPTION:Wednesday\, April 29 | 4-8pm \n Join us for an exciting evening for the grand opening celebration of Relive Health. Featuring a ribbon cutting ceremony\, raffle prizes\, and exclusive week-long grand opening specials on Botox & fillers\, laser treatments\, and medical esthetics packages. Guests can also enjoy complimentary consultations for medical weight loss\, hormone optimization\, and peptide therapy. \nDon’t miss this opportunity to explore personalized wellness solutions and experience everything Relive Health has to offer. \nRSVP HERE
URL:https://tempemarketplace.com/event/relivehealth-2/
LOCATION:Relive Health\, 2010 E Rio Salado Pkwy Suite 117\, Tempe\, AZ\, 85288\, United States
CATEGORIES:Special Events
ATTACH;FMTTYPE=image/jpeg:https://tempemarketplace.com/wp-content/uploads/2025/11/EliteLuxuryNews-Relive-Health-1.jpg
END:VEVENT
END:VCALENDAR